BEGIN:VCALENDAR
VERSION:2.0
PRODID:-//Wakefield Village - ECPv6.15.20//NONSGML v1.0//EN
CALSCALE:GREGORIAN
METHOD:PUBLISH
X-WR-CALNAME:Wakefield Village
X-ORIGINAL-URL:https://www.wakefield.org.nz
X-WR-CALDESC:Events for Wakefield Village
REFRESH-INTERVAL;VALUE=DURATION:PT1H
X-Robots-Tag:noindex
X-PUBLISHED-TTL:PT1H
BEGIN:VTIMEZONE
TZID:Pacific/Auckland
BEGIN:STANDARD
TZOFFSETFROM:+1300
TZOFFSETTO:+1200
TZNAME:NZST
DTSTART:20240406T140000
END:STANDARD
BEGIN:DAYLIGHT
TZOFFSETFROM:+1200
TZOFFSETTO:+1300
TZNAME:NZDT
DTSTART:20240928T140000
END:DAYLIGHT
BEGIN:STANDARD
TZOFFSETFROM:+1300
TZOFFSETTO:+1200
TZNAME:NZST
DTSTART:20250405T140000
END:STANDARD
BEGIN:DAYLIGHT
TZOFFSETFROM:+1200
TZOFFSETTO:+1300
TZNAME:NZDT
DTSTART:20250927T140000
END:DAYLIGHT
BEGIN:STANDARD
TZOFFSETFROM:+1300
TZOFFSETTO:+1200
TZNAME:NZST
DTSTART:20260404T140000
END:STANDARD
BEGIN:DAYLIGHT
TZOFFSETFROM:+1200
TZOFFSETTO:+1300
TZNAME:NZDT
DTSTART:20260926T140000
END:DAYLIGHT
END:VTIMEZONE
BEGIN:VEVENT
DTSTART;TZID=Pacific/Auckland:20250729T183000
DTEND;TZID=Pacific/Auckland:20250729T210000
DTSTAMP:20260423T055447
CREATED:20250728T221239Z
LAST-MODIFIED:20250728T221239Z
UID:11609-1753813800-1753822800@www.wakefield.org.nz
SUMMARY:Quiz night - Little Sprig
DESCRIPTION:Come join us for this weeks quiz night and help your\nLocal wakey dancers Maddi & Gracie along with their\nAmazing team – Phalanx Hip Hop Crew! As they fundraise their way to the Hip Hop Worlds in Prague this October.\nPlease phone Ryan at the Little Sprig Wakefield to book your table. We can’t wait to see you there
URL:https://www.wakefield.org.nz/event/quiz-night-little-sprig/
LOCATION:Little Sprig\, Edward Street\, Wakefield\, New Zealand
CATEGORIES:Quiz Night
ATTACH;FMTTYPE=image/jpeg:https://www.wakefield.org.nz/wp-content/uploads/sites/430/2025/07/Quiz-night-1.jpg
END:VEVENT
END:VCALENDAR