BEGIN:VCALENDAR
VERSION:2.0
PRODID:-//Wakefield Village - ECPv6.15.20//NONSGML v1.0//EN
CALSCALE:GREGORIAN
METHOD:PUBLISH
X-WR-CALNAME:Wakefield Village
X-ORIGINAL-URL:https://www.wakefield.org.nz
X-WR-CALDESC:Events for Wakefield Village
REFRESH-INTERVAL;VALUE=DURATION:PT1H
X-Robots-Tag:noindex
X-PUBLISHED-TTL:PT1H
BEGIN:VTIMEZONE
TZID:Pacific/Auckland
BEGIN:STANDARD
TZOFFSETFROM:+1300
TZOFFSETTO:+1200
TZNAME:NZST
DTSTART:20240406T140000
END:STANDARD
BEGIN:DAYLIGHT
TZOFFSETFROM:+1200
TZOFFSETTO:+1300
TZNAME:NZDT
DTSTART:20240928T140000
END:DAYLIGHT
BEGIN:STANDARD
TZOFFSETFROM:+1300
TZOFFSETTO:+1200
TZNAME:NZST
DTSTART:20250405T140000
END:STANDARD
BEGIN:DAYLIGHT
TZOFFSETFROM:+1200
TZOFFSETTO:+1300
TZNAME:NZDT
DTSTART:20250927T140000
END:DAYLIGHT
BEGIN:STANDARD
TZOFFSETFROM:+1300
TZOFFSETTO:+1200
TZNAME:NZST
DTSTART:20260404T140000
END:STANDARD
BEGIN:DAYLIGHT
TZOFFSETFROM:+1200
TZOFFSETTO:+1300
TZNAME:NZDT
DTSTART:20260926T140000
END:DAYLIGHT
END:VTIMEZONE
BEGIN:VEVENT
DTSTART;TZID=Pacific/Auckland:20250715T183000
DTEND;TZID=Pacific/Auckland:20250715T210000
DTSTAMP:20260423T055607
CREATED:20250712T090304Z
LAST-MODIFIED:20250712T090304Z
UID:11586-1752604200-1752613200@www.wakefield.org.nz
SUMMARY:Quiz night - Mayoral Relief Fund
DESCRIPTION:QUIZ NIGHT!\n\n\nThis is a special quiz night for our community.\nWe are raising money for the mayoral relief fund. Our hearts go out to all of the community after the horrible weather we’ve recently had and we are hoping to come together and raise money for this great cause.\n\n\nThere are some pretty wicked prizes along with some delicious mulled wine that will be available on the night and other treats!\n\n\nThere are still some tables available so get your teams together and book in quick they won’t last long.
URL:https://www.wakefield.org.nz/event/quiz-night-mayoral-relief-fund/
LOCATION:Little Sprig\, Edward Street\, Wakefield\, New Zealand
CATEGORIES:Quiz Night
ATTACH;FMTTYPE=image/jpeg:https://www.wakefield.org.nz/wp-content/uploads/sites/430/2025/07/Quiz-night.jpg
END:VEVENT
END:VCALENDAR