BEGIN:VCALENDAR
VERSION:2.0
PRODID:-//Wakefield Village - ECPv6.15.20//NONSGML v1.0//EN
CALSCALE:GREGORIAN
METHOD:PUBLISH
X-WR-CALNAME:Wakefield Village
X-ORIGINAL-URL:https://www.wakefield.org.nz
X-WR-CALDESC:Events for Wakefield Village
REFRESH-INTERVAL;VALUE=DURATION:PT1H
X-Robots-Tag:noindex
X-PUBLISHED-TTL:PT1H
BEGIN:VTIMEZONE
TZID:Pacific/Auckland
BEGIN:STANDARD
TZOFFSETFROM:+1300
TZOFFSETTO:+1200
TZNAME:NZST
DTSTART:20240406T140000
END:STANDARD
BEGIN:DAYLIGHT
TZOFFSETFROM:+1200
TZOFFSETTO:+1300
TZNAME:NZDT
DTSTART:20240928T140000
END:DAYLIGHT
BEGIN:STANDARD
TZOFFSETFROM:+1300
TZOFFSETTO:+1200
TZNAME:NZST
DTSTART:20250405T140000
END:STANDARD
BEGIN:DAYLIGHT
TZOFFSETFROM:+1200
TZOFFSETTO:+1300
TZNAME:NZDT
DTSTART:20250927T140000
END:DAYLIGHT
BEGIN:STANDARD
TZOFFSETFROM:+1300
TZOFFSETTO:+1200
TZNAME:NZST
DTSTART:20260404T140000
END:STANDARD
BEGIN:DAYLIGHT
TZOFFSETFROM:+1200
TZOFFSETTO:+1300
TZNAME:NZDT
DTSTART:20260926T140000
END:DAYLIGHT
END:VTIMEZONE
BEGIN:VEVENT
DTSTART;TZID=Pacific/Auckland:20250701T190000
DTEND;TZID=Pacific/Auckland:20250701T210000
DTSTAMP:20260423T020527
CREATED:20250607T054607Z
LAST-MODIFIED:20250607T054607Z
UID:11576-1751396400-1751403600@www.wakefield.org.nz
SUMMARY:Quiz Night Fundraiser - Wakefield Youth Hangout
DESCRIPTION:Let’s Rally for Our Youth\, Wakefield! \n\n\nWe’re calling on our amazing community to get behind the next generation of Wakefield by supporting our Quiz Night Fundraiser! \n\n\n Little Sprig\, Wakefield\n Tuesday 1st July\n 7 PM\n $5 per person – bring cash\n\n\nIf you can donate towards the raffles for the Quiz night please email: Wakefieldyouthhangout@gmail.com\n\n\nThis fun-filled night is hosted by Wakefield Youth Hangout\, and it’s more than just a quiz — it’s a chance to invest back into our local teens\, their space\, and their future.\n\n\nWhether you’re a quiz master or just keen to support\, come along and be part of something awesome.
URL:https://www.wakefield.org.nz/event/quiz-night-fundraiser-wakefield-youth-hangout/
LOCATION:Little Sprig\, Edward Street\, Wakefield\, New Zealand
CATEGORIES:Quiz Night
ATTACH;FMTTYPE=image/jpeg:https://www.wakefield.org.nz/wp-content/uploads/sites/430/2025/06/Quiz-night-Youth.jpg
END:VEVENT
END:VCALENDAR