BEGIN:VCALENDAR
VERSION:2.0
PRODID:-//Wakefield Village - ECPv6.15.20//NONSGML v1.0//EN
CALSCALE:GREGORIAN
METHOD:PUBLISH
X-WR-CALNAME:Wakefield Village
X-ORIGINAL-URL:https://www.wakefield.org.nz
X-WR-CALDESC:Events for Wakefield Village
REFRESH-INTERVAL;VALUE=DURATION:PT1H
X-Robots-Tag:noindex
X-PUBLISHED-TTL:PT1H
BEGIN:VTIMEZONE
TZID:Pacific/Auckland
BEGIN:STANDARD
TZOFFSETFROM:+1300
TZOFFSETTO:+1200
TZNAME:NZST
DTSTART:20240406T140000
END:STANDARD
BEGIN:DAYLIGHT
TZOFFSETFROM:+1200
TZOFFSETTO:+1300
TZNAME:NZDT
DTSTART:20240928T140000
END:DAYLIGHT
BEGIN:STANDARD
TZOFFSETFROM:+1300
TZOFFSETTO:+1200
TZNAME:NZST
DTSTART:20250405T140000
END:STANDARD
BEGIN:DAYLIGHT
TZOFFSETFROM:+1200
TZOFFSETTO:+1300
TZNAME:NZDT
DTSTART:20250927T140000
END:DAYLIGHT
BEGIN:STANDARD
TZOFFSETFROM:+1300
TZOFFSETTO:+1200
TZNAME:NZST
DTSTART:20260404T140000
END:STANDARD
BEGIN:DAYLIGHT
TZOFFSETFROM:+1200
TZOFFSETTO:+1300
TZNAME:NZDT
DTSTART:20260926T140000
END:DAYLIGHT
END:VTIMEZONE
BEGIN:VEVENT
DTSTART;TZID=Pacific/Auckland:20250625T100000
DTEND;TZID=Pacific/Auckland:20250625T140000
DTSTAMP:20260422T222627
CREATED:20250605T214753Z
LAST-MODIFIED:20250605T214753Z
UID:11567-1750845600-1750860000@www.wakefield.org.nz
SUMMARY:Welcome Wednesday at Willowbank
DESCRIPTION:Welcome Wednesday at Willow Bank \n Wednesday 25th June | 10:00am – 2:00pm\n 79 Wakefield–Kohatu Highway\, Wakefield\n\n\nLooking for a peaceful midweek outing? Come and enjoy the charm of Willow Bank Heritage Village at our special midweek opening – Welcome Wednesday!\n\n\nTake a relaxed stroll through our historic village\, warm up by the fire in the church\, and enjoy a cuppa and scone at our Victorian Café.\n\n\n Special Price – $12 per person\, includes:\n Entry to the Village\n A Hot Drink (Tea or Coffee)\n A Freshly Baked Scone\n\n\nNo bookings needed – just come along and soak up the atmosphere.\n\n\nTag a friend who loves a peaceful wander and a cosy cuppa with a treat!
URL:https://www.wakefield.org.nz/event/welcome-wednesday-at-willowbank/
LOCATION:Willow Bank Heritage Village
CATEGORIES:History
ATTACH;FMTTYPE=image/jpeg:https://www.wakefield.org.nz/wp-content/uploads/sites/430/2025/06/Willowbank-Wednesday.jpg
END:VEVENT
END:VCALENDAR