BEGIN:VCALENDAR
VERSION:2.0
PRODID:-//Wakefield Village - ECPv6.15.20//NONSGML v1.0//EN
CALSCALE:GREGORIAN
METHOD:PUBLISH
X-WR-CALNAME:Wakefield Village
X-ORIGINAL-URL:https://www.wakefield.org.nz
X-WR-CALDESC:Events for Wakefield Village
REFRESH-INTERVAL;VALUE=DURATION:PT1H
X-Robots-Tag:noindex
X-PUBLISHED-TTL:PT1H
BEGIN:VTIMEZONE
TZID:Pacific/Auckland
BEGIN:STANDARD
TZOFFSETFROM:+1300
TZOFFSETTO:+1200
TZNAME:NZST
DTSTART:20240406T140000
END:STANDARD
BEGIN:DAYLIGHT
TZOFFSETFROM:+1200
TZOFFSETTO:+1300
TZNAME:NZDT
DTSTART:20240928T140000
END:DAYLIGHT
BEGIN:STANDARD
TZOFFSETFROM:+1300
TZOFFSETTO:+1200
TZNAME:NZST
DTSTART:20250405T140000
END:STANDARD
BEGIN:DAYLIGHT
TZOFFSETFROM:+1200
TZOFFSETTO:+1300
TZNAME:NZDT
DTSTART:20250927T140000
END:DAYLIGHT
BEGIN:STANDARD
TZOFFSETFROM:+1300
TZOFFSETTO:+1200
TZNAME:NZST
DTSTART:20260404T140000
END:STANDARD
BEGIN:DAYLIGHT
TZOFFSETFROM:+1200
TZOFFSETTO:+1300
TZNAME:NZDT
DTSTART:20260926T140000
END:DAYLIGHT
END:VTIMEZONE
BEGIN:VEVENT
DTSTART;TZID=Pacific/Auckland:20250506T093000
DTEND;TZID=Pacific/Auckland:20250603T113000
DTSTAMP:20260423T094611
CREATED:20250419T002121Z
LAST-MODIFIED:20250419T002121Z
UID:11513-1746523800-1748950200@www.wakefield.org.nz
SUMMARY:Perinatal Support Group
DESCRIPTION:We are coming to Wakefield  in May. This therapeutic group is open mothers who have Tamariki under 2 years old\, who are experiencing or feeling disconnected\, from their whānau\, pēpi\, or tamariki as they navigate Motherhood.
URL:https://www.wakefield.org.nz/event/perinatal-support-group/
LOCATION:Willow Bank Heritage Village
CATEGORIES:Something Else!
ATTACH;FMTTYPE=image/jpeg:https://www.wakefield.org.nz/wp-content/uploads/sites/430/2025/04/Support-Group.jpg
END:VEVENT
BEGIN:VEVENT
DTSTART;TZID=Pacific/Auckland:20250519T190000
DTEND;TZID=Pacific/Auckland:20250519T210000
DTSTAMP:20260423T094611
CREATED:20250519T010429Z
LAST-MODIFIED:20250519T010429Z
UID:11554-1747681200-1747688400@www.wakefield.org.nz
SUMMARY:Wakefield Community Council Meeting
DESCRIPTION:
URL:https://www.wakefield.org.nz/event/wakefield-community-council-meeting-9/
LOCATION:Wakefield Hall\, 10 Whitby Way\, Wakefield\, New Zealand
CATEGORIES:Community Council
ATTACH;FMTTYPE=image/png:https://www.wakefield.org.nz/wp-content/uploads/sites/430/2025/05/wcc-May-2025.png
END:VEVENT
END:VCALENDAR