BEGIN:VCALENDAR
VERSION:2.0
PRODID:-//Wakefield Village - ECPv6.15.20//NONSGML v1.0//EN
CALSCALE:GREGORIAN
METHOD:PUBLISH
X-WR-CALNAME:Wakefield Village
X-ORIGINAL-URL:https://www.wakefield.org.nz
X-WR-CALDESC:Events for Wakefield Village
REFRESH-INTERVAL;VALUE=DURATION:PT1H
X-Robots-Tag:noindex
X-PUBLISHED-TTL:PT1H
BEGIN:VTIMEZONE
TZID:Pacific/Auckland
BEGIN:STANDARD
TZOFFSETFROM:+1300
TZOFFSETTO:+1200
TZNAME:NZST
DTSTART:20240406T140000
END:STANDARD
BEGIN:DAYLIGHT
TZOFFSETFROM:+1200
TZOFFSETTO:+1300
TZNAME:NZDT
DTSTART:20240928T140000
END:DAYLIGHT
BEGIN:STANDARD
TZOFFSETFROM:+1300
TZOFFSETTO:+1200
TZNAME:NZST
DTSTART:20250405T140000
END:STANDARD
BEGIN:DAYLIGHT
TZOFFSETFROM:+1200
TZOFFSETTO:+1300
TZNAME:NZDT
DTSTART:20250927T140000
END:DAYLIGHT
BEGIN:STANDARD
TZOFFSETFROM:+1300
TZOFFSETTO:+1200
TZNAME:NZST
DTSTART:20260404T140000
END:STANDARD
BEGIN:DAYLIGHT
TZOFFSETFROM:+1200
TZOFFSETTO:+1300
TZNAME:NZDT
DTSTART:20260926T140000
END:DAYLIGHT
END:VTIMEZONE
BEGIN:VEVENT
DTSTART;TZID=Pacific/Auckland:20250504T100000
DTEND;TZID=Pacific/Auckland:20250504T150000
DTSTAMP:20260422T185540
CREATED:20250429T090331Z
LAST-MODIFIED:20250429T090637Z
UID:11529-1746352800-1746370800@www.wakefield.org.nz
SUMMARY:Willow Bank Heritage Village - Apple Harvest Open day
DESCRIPTION:Our next open day is on Sunday May 4th 10am – 3pm\, and we’ve decided to have another Apple Harvest theme to end our season of Open days.\n\n\nBYO apples\, pears or Feijoa.\n\n\nBYO Bottles or purchase our Juice bags to take home your fresh juice.\n\n\nAlways a fun day\, see you there!!
URL:https://www.wakefield.org.nz/event/willow-bank-heritage-village-apple-harvest-open-day/
LOCATION:Willow Bank Heritage Village
CATEGORIES:History
ATTACH;FMTTYPE=image/jpeg:https://www.wakefield.org.nz/wp-content/uploads/sites/430/2025/04/Apple-harvest.jpg
END:VEVENT
END:VCALENDAR