BEGIN:VCALENDAR
VERSION:2.0
PRODID:-//Wakefield Village - ECPv6.15.20//NONSGML v1.0//EN
CALSCALE:GREGORIAN
METHOD:PUBLISH
X-WR-CALNAME:Wakefield Village
X-ORIGINAL-URL:https://www.wakefield.org.nz
X-WR-CALDESC:Events for Wakefield Village
REFRESH-INTERVAL;VALUE=DURATION:PT1H
X-Robots-Tag:noindex
X-PUBLISHED-TTL:PT1H
BEGIN:VTIMEZONE
TZID:Pacific/Auckland
BEGIN:STANDARD
TZOFFSETFROM:+1300
TZOFFSETTO:+1200
TZNAME:NZST
DTSTART:20240406T140000
END:STANDARD
BEGIN:DAYLIGHT
TZOFFSETFROM:+1200
TZOFFSETTO:+1300
TZNAME:NZDT
DTSTART:20240928T140000
END:DAYLIGHT
BEGIN:STANDARD
TZOFFSETFROM:+1300
TZOFFSETTO:+1200
TZNAME:NZST
DTSTART:20250405T140000
END:STANDARD
BEGIN:DAYLIGHT
TZOFFSETFROM:+1200
TZOFFSETTO:+1300
TZNAME:NZDT
DTSTART:20250927T140000
END:DAYLIGHT
BEGIN:STANDARD
TZOFFSETFROM:+1300
TZOFFSETTO:+1200
TZNAME:NZST
DTSTART:20260404T140000
END:STANDARD
BEGIN:DAYLIGHT
TZOFFSETFROM:+1200
TZOFFSETTO:+1300
TZNAME:NZDT
DTSTART:20260926T140000
END:DAYLIGHT
END:VTIMEZONE
BEGIN:VEVENT
DTSTART;TZID=Pacific/Auckland:20250328T180000
DTEND;TZID=Pacific/Auckland:20250328T213000
DTSTAMP:20260422T152609
CREATED:20250223T080650Z
LAST-MODIFIED:20250223T080650Z
UID:11493-1743184800-1743197400@www.wakefield.org.nz
SUMMARY:Risky Quiziness
DESCRIPTION:Hey team\, local Wakefieldian trying to do local goodness!\n\n\nThrowing on a big Quiz Night event on Friday 28th March at the Wakefield Village Hall to fundraise for Nelson Tasman Hospice. For more details: https://www.facebook.com/events/1528862824454065?active_tab=about\n\n\n$40/person – Gets you entry to the event and food. Almost can’t get through Maccas for less than that now and the food will blow Maccas quality out the gate\, with professional chefs on the team making the food! … No Frozo Cokes though at our event though …\n\n\nPut a team together and come along to this good time to support a hell of a cause! Event will likely kick on till 9:30pm\, so make sure you’re ready for a good time!
URL:https://www.wakefield.org.nz/event/risky-quiziness/
LOCATION:Wakefield Hall\, 10 Whitby Way\, Wakefield\, New Zealand
CATEGORIES:Quiz Night
END:VEVENT
END:VCALENDAR