BEGIN:VCALENDAR
VERSION:2.0
PRODID:-//Wakefield Village - ECPv6.15.20//NONSGML v1.0//EN
CALSCALE:GREGORIAN
METHOD:PUBLISH
X-WR-CALNAME:Wakefield Village
X-ORIGINAL-URL:https://www.wakefield.org.nz
X-WR-CALDESC:Events for Wakefield Village
REFRESH-INTERVAL;VALUE=DURATION:PT1H
X-Robots-Tag:noindex
X-PUBLISHED-TTL:PT1H
BEGIN:VTIMEZONE
TZID:Pacific/Auckland
BEGIN:STANDARD
TZOFFSETFROM:+1300
TZOFFSETTO:+1200
TZNAME:NZST
DTSTART:20240406T140000
END:STANDARD
BEGIN:DAYLIGHT
TZOFFSETFROM:+1200
TZOFFSETTO:+1300
TZNAME:NZDT
DTSTART:20240928T140000
END:DAYLIGHT
BEGIN:STANDARD
TZOFFSETFROM:+1300
TZOFFSETTO:+1200
TZNAME:NZST
DTSTART:20250405T140000
END:STANDARD
BEGIN:DAYLIGHT
TZOFFSETFROM:+1200
TZOFFSETTO:+1300
TZNAME:NZDT
DTSTART:20250927T140000
END:DAYLIGHT
BEGIN:STANDARD
TZOFFSETFROM:+1300
TZOFFSETTO:+1200
TZNAME:NZST
DTSTART:20260404T140000
END:STANDARD
BEGIN:DAYLIGHT
TZOFFSETFROM:+1200
TZOFFSETTO:+1300
TZNAME:NZDT
DTSTART:20260926T140000
END:DAYLIGHT
END:VTIMEZONE
BEGIN:VEVENT
DTSTART;TZID=Pacific/Auckland:20250316T083000
DTEND;TZID=Pacific/Auckland:20250316T140000
DTSTAMP:20260422T152705
CREATED:20250120T090648Z
LAST-MODIFIED:20250120T090648Z
UID:11477-1742113800-1742133600@www.wakefield.org.nz
SUMMARY:Art in Action Expo
DESCRIPTION:Art Expo Sunday 16th March @ Wakefield Hall
URL:https://www.wakefield.org.nz/event/art-in-action-expo/
LOCATION:Wakefield Hall\, 10 Whitby Way\, Wakefield\, New Zealand
CATEGORIES:Art Group
ATTACH;FMTTYPE=image/jpeg:https://www.wakefield.org.nz/wp-content/uploads/sites/430/2025/01/Expo25-Adv-sml.jpg
END:VEVENT
BEGIN:VEVENT
DTSTART;TZID=Pacific/Auckland:20250316T083000
DTEND;TZID=Pacific/Auckland:20250316T140000
DTSTAMP:20260422T152705
CREATED:20250310T051056Z
LAST-MODIFIED:20250310T051056Z
UID:11500-1742113800-1742133600@www.wakefield.org.nz
SUMMARY:Wakefield Art Group Expo
DESCRIPTION:Wakefield Art Group Expo\nSunday 16th March @ Wakefield Village Hall 8.30 – 2pm\ngold coin entry donation\nArtists in Action — Art display to enhance your home
URL:https://www.wakefield.org.nz/event/wakefield-art-group-expo/
LOCATION:Wakefield Hall\, 10 Whitby Way\, Wakefield\, New Zealand
CATEGORIES:Art Group
ATTACH;FMTTYPE=image/jpeg:https://www.wakefield.org.nz/wp-content/uploads/sites/430/2025/03/Art-group-March.jpg
END:VEVENT
END:VCALENDAR