BEGIN:VCALENDAR
VERSION:2.0
PRODID:-//Wakefield Village - ECPv6.15.20//NONSGML v1.0//EN
CALSCALE:GREGORIAN
METHOD:PUBLISH
X-WR-CALNAME:Wakefield Village
X-ORIGINAL-URL:https://www.wakefield.org.nz
X-WR-CALDESC:Events for Wakefield Village
REFRESH-INTERVAL;VALUE=DURATION:PT1H
X-Robots-Tag:noindex
X-PUBLISHED-TTL:PT1H
BEGIN:VTIMEZONE
TZID:Pacific/Auckland
BEGIN:STANDARD
TZOFFSETFROM:+1300
TZOFFSETTO:+1200
TZNAME:NZST
DTSTART:20240406T140000
END:STANDARD
BEGIN:DAYLIGHT
TZOFFSETFROM:+1200
TZOFFSETTO:+1300
TZNAME:NZDT
DTSTART:20240928T140000
END:DAYLIGHT
BEGIN:STANDARD
TZOFFSETFROM:+1300
TZOFFSETTO:+1200
TZNAME:NZST
DTSTART:20250405T140000
END:STANDARD
BEGIN:DAYLIGHT
TZOFFSETFROM:+1200
TZOFFSETTO:+1300
TZNAME:NZDT
DTSTART:20250927T140000
END:DAYLIGHT
BEGIN:STANDARD
TZOFFSETFROM:+1300
TZOFFSETTO:+1200
TZNAME:NZST
DTSTART:20260404T140000
END:STANDARD
BEGIN:DAYLIGHT
TZOFFSETFROM:+1200
TZOFFSETTO:+1300
TZNAME:NZDT
DTSTART:20260926T140000
END:DAYLIGHT
END:VTIMEZONE
BEGIN:VEVENT
DTSTART;TZID=Pacific/Auckland:20250110T180000
DTEND;TZID=Pacific/Auckland:20250110T200000
DTSTAMP:20260422T100019
CREATED:20250110T085715Z
LAST-MODIFIED:20250110T085715Z
UID:11463-1736532000-1736539200@www.wakefield.org.nz
SUMMARY:Wakefield Bowling Club Summer League
DESCRIPTION:“Come on down to the Wakefield Bowling Club for the Summer League”  \nEveryone is welcome. Starts at 6pm\, Friday 10th January for 4 Friday evenings
URL:https://www.wakefield.org.nz/event/wakefield-bowling-club-summer-league/
LOCATION:Wakefield Bowling Club
CATEGORIES:Sport
ATTACH;FMTTYPE=image/png:https://www.wakefield.org.nz/wp-content/uploads/sites/430/2025/01/Summer-Bowling.png
END:VEVENT
END:VCALENDAR