BEGIN:VCALENDAR
VERSION:2.0
PRODID:-//Wakefield Village - ECPv6.15.18//NONSGML v1.0//EN
CALSCALE:GREGORIAN
METHOD:PUBLISH
X-WR-CALNAME:Wakefield Village
X-ORIGINAL-URL:https://www.wakefield.org.nz
X-WR-CALDESC:Events for Wakefield Village
REFRESH-INTERVAL;VALUE=DURATION:PT1H
X-Robots-Tag:noindex
X-PUBLISHED-TTL:PT1H
BEGIN:VTIMEZONE
TZID:Pacific/Auckland
BEGIN:STANDARD
TZOFFSETFROM:+1300
TZOFFSETTO:+1200
TZNAME:NZST
DTSTART:20230401T140000
END:STANDARD
BEGIN:DAYLIGHT
TZOFFSETFROM:+1200
TZOFFSETTO:+1300
TZNAME:NZDT
DTSTART:20230923T140000
END:DAYLIGHT
BEGIN:STANDARD
TZOFFSETFROM:+1300
TZOFFSETTO:+1200
TZNAME:NZST
DTSTART:20240406T140000
END:STANDARD
BEGIN:DAYLIGHT
TZOFFSETFROM:+1200
TZOFFSETTO:+1300
TZNAME:NZDT
DTSTART:20240928T140000
END:DAYLIGHT
BEGIN:STANDARD
TZOFFSETFROM:+1300
TZOFFSETTO:+1200
TZNAME:NZST
DTSTART:20250405T140000
END:STANDARD
BEGIN:DAYLIGHT
TZOFFSETFROM:+1200
TZOFFSETTO:+1300
TZNAME:NZDT
DTSTART:20250927T140000
END:DAYLIGHT
END:VTIMEZONE
BEGIN:VEVENT
DTSTART;TZID=Pacific/Auckland:20241102T150000
DTEND;TZID=Pacific/Auckland:20241102T183000
DTSTAMP:20260421T200053
CREATED:20241020T211028Z
LAST-MODIFIED:20241020T211028Z
UID:11428-1730559600-1730572200@www.wakefield.org.nz
SUMMARY:Wakefield School Gala
DESCRIPTION:
URL:https://www.wakefield.org.nz/event/wakefield-school-gala/
LOCATION:Wakefield School
CATEGORIES:School Gala
ATTACH;FMTTYPE=image/jpeg:https://www.wakefield.org.nz/wp-content/uploads/sites/430/2024/10/gala.jpg
END:VEVENT
BEGIN:VEVENT
DTSTART;TZID=Pacific/Auckland:20241103T113000
DTEND;TZID=Pacific/Auckland:20241103T130000
DTSTAMP:20260421T200053
CREATED:20241031T084848Z
LAST-MODIFIED:20241031T084848Z
UID:11449-1730633400-1730638800@www.wakefield.org.nz
SUMMARY:Wet n Wild School Pool opening
DESCRIPTION:
URL:https://www.wakefield.org.nz/event/wet-n-wild-school-pool-opening/
LOCATION:Wakefield School Pool
CATEGORIES:School related
ATTACH;FMTTYPE=image/jpeg:https://www.wakefield.org.nz/wp-content/uploads/sites/430/2024/10/School-pool.jpg
END:VEVENT
BEGIN:VEVENT
DTSTART;TZID=Pacific/Auckland:20241105T183000
DTEND;TZID=Pacific/Auckland:20241105T210000
DTSTAMP:20260421T200053
CREATED:20241025T063141Z
LAST-MODIFIED:20241025T063141Z
UID:11438-1730831400-1730840400@www.wakefield.org.nz
SUMMARY:Wakefield Community Hub - Quiz Night
DESCRIPTION:
URL:https://www.wakefield.org.nz/event/wakefield-community-hub-quiz-night/
LOCATION:Little Sprig\, Edward Street\, Wakefield\, New Zealand
CATEGORIES:Quiz Night
ATTACH;FMTTYPE=image/jpeg:https://www.wakefield.org.nz/wp-content/uploads/sites/430/2024/10/hub-quiz-night.jpg
END:VEVENT
BEGIN:VEVENT
DTSTART;TZID=Pacific/Auckland:20241105T183000
DTEND;TZID=Pacific/Auckland:20241105T210000
DTSTAMP:20260421T200053
CREATED:20241031T083355Z
LAST-MODIFIED:20241031T083355Z
UID:11441-1730831400-1730840400@www.wakefield.org.nz
SUMMARY:Mend it night
DESCRIPTION:Please come along! Bring your projects and supplies and enjoy a cuppa and some biscuits. We will have some mending threads and plenty of speed weaves to share. See you there!
URL:https://www.wakefield.org.nz/event/mend-it-night/
LOCATION:Wakefield Toy Library\, Edwards Street\, Wakefield\, New Zealand
CATEGORIES:Something Else!
ATTACH;FMTTYPE=image/jpeg:https://www.wakefield.org.nz/wp-content/uploads/sites/430/2024/10/mend-it-night.jpg
END:VEVENT
BEGIN:VEVENT
DTSTART;TZID=Pacific/Auckland:20241111T130000
DTEND;TZID=Pacific/Auckland:20241111T160000
DTSTAMP:20260421T200053
CREATED:20241019T071417Z
LAST-MODIFIED:20241019T071417Z
UID:11424-1731330000-1731340800@www.wakefield.org.nz
SUMMARY:Free Cultural Connection Workshop
DESCRIPTION:
URL:https://www.wakefield.org.nz/event/free-cultural-connection-workshop/
LOCATION:St Johns Church
CATEGORIES:Something Else!
ATTACH;FMTTYPE=image/jpeg:https://www.wakefield.org.nz/wp-content/uploads/sites/430/2024/10/cultural-connections.jpg
END:VEVENT
BEGIN:VEVENT
DTSTART;TZID=Pacific/Auckland:20241113T130000
DTEND;TZID=Pacific/Auckland:20241113T150000
DTSTAMP:20260421T200053
CREATED:20241031T083725Z
LAST-MODIFIED:20241031T083725Z
UID:11444-1731502800-1731510000@www.wakefield.org.nz
SUMMARY:High Tea at Willowbank Heritage Village
DESCRIPTION:Christmas High Tea at Willow Bank \n\n\nJoin us for a festive high tea this holiday season at Willow Bank! It’s the perfect way to celebrate with your team\, friends\, or family in our beautiful Heritage Village.\n\n\nEnjoy delicious xmas themed Victorian era treats and a self-guided tour of our unique village for just $39 per person.\n\n\n Upcoming Dates:\n\n\nWed\, Nov 13\, 1 pm – Filling up fast! Just a couple of tables left.\n\n\nFri\, Nov 22\, 1 pm – Almost booked out! Don’t miss your chance.\n\n\nThurs\, Dec 5\, 1 pm – Plenty of seats left; ideal for larger groups.\n\n\nFri\, Dec 13\, 1 pm – Space available for small and larger groups.\n\n\nNow’s the time to plan your end-of-year get-together! High tea at Willow Bank is a wonderful way to finish the year with those who matter most.\n\n\nFor very large groups\, please contact Medea at medea@willowbankwakefield.co.nz to discuss how we can accommodate you.\n\n\nReady to book?\n\n\nReserve your spot now using our online form: https://www.willowbankwakefield.co.nz/high-tea-at-willow…/\n\n\n We look forward to celebrating the season with you!\n\n\nTeam Willow Bank
URL:https://www.wakefield.org.nz/event/high-tea-at-willowbank-heritage-village/
LOCATION:Willow Bank Heritage Village
CATEGORIES:High tea
ATTACH;FMTTYPE=image/jpeg:https://www.wakefield.org.nz/wp-content/uploads/sites/430/2024/10/high-tea.jpg
END:VEVENT
BEGIN:VEVENT
DTSTART;TZID=Pacific/Auckland:20241122T130000
DTEND;TZID=Pacific/Auckland:20241122T150000
DTSTAMP:20260421T200053
CREATED:20241031T083858Z
LAST-MODIFIED:20241031T083858Z
UID:11446-1732280400-1732287600@www.wakefield.org.nz
SUMMARY:Christmas High Tea at Willow Bank
DESCRIPTION:Christmas High Tea at Willow Bank \n\n\nJoin us for a festive high tea this holiday season at Willow Bank! It’s the perfect way to celebrate with your team\, friends\, or family in our beautiful Heritage Village.\n\n\nEnjoy delicious xmas themed Victorian era treats and a self-guided tour of our unique village for just $39 per person.\n\n\n Upcoming Dates:\n\n\nFri\, Nov 22\, 1 pm – Almost booked out! Don’t miss your chance.\n\n\nThurs\, Dec 5\, 1 pm – Plenty of seats left; ideal for larger groups.\n\n\nFri\, Dec 13\, 1 pm – Space available for small and larger groups.\n\n\nNow’s the time to plan your end-of-year get-together! High tea at Willow Bank is a wonderful way to finish the year with those who matter most.\n\n\nFor very large groups\, please contact Medea at medea@willowbankwakefield.co.nz to discuss how we can accommodate you.\n\n\nReady to book?\n\n\nReserve your spot now using our online form: https://www.willowbankwakefield.co.nz/high-tea-at-willow…/\n\n\n We look forward to celebrating the season with you!\n\n\nTeam Willow Bank
URL:https://www.wakefield.org.nz/event/christmas-high-tea-at-willow-bank/
LOCATION:Willow Bank Heritage Village
CATEGORIES:High tea
ATTACH;FMTTYPE=image/jpeg:https://www.wakefield.org.nz/wp-content/uploads/sites/430/2024/10/high-tea.jpg
END:VEVENT
BEGIN:VEVENT
DTSTART;TZID=Pacific/Auckland:20241123T183000
DTEND;TZID=Pacific/Auckland:20241123T220000
DTSTAMP:20260421T200053
CREATED:20241118T094509Z
LAST-MODIFIED:20241118T094509Z
UID:11453-1732386600-1732399200@www.wakefield.org.nz
SUMMARY:Outdoor Movie Night - Shrek
DESCRIPTION:This coming Saturday is the\nOUTDOOR MOVIE NIGHT …SHREK \n\n\nThe Waimea Youth Council with support by the Tasman District Council and the Wakefield Community Council is putting on this incredible community event at the Wakefield Recreation Reserve.\n\n\nFood and drink from 6:30pm onwards\n\n\nGet ready to rock with IMPERFECT CIRCLES !\nCatch them live from 7:00 PM – 8:00 PM as they bring the energy with a mix of original tracks and covers. Hailing from Motueka\, this youth band is making waves across Nelson Tasman\, and they’re ready to turn up the volume! Don’t miss out on the action! \n\n\n8pm – Shrek will be played on the big screen.\n“Once upon a time\, in a far away swamp\, there lived an ogre named Shrek whose precious solitude is suddenly shattered by an invasion of annoying fairy tale characters. They were all banished from their kingdom by the evil Lord Farquaad. Determined to save their home — not to mention his — Shrek cuts a deal with Farquaad and sets out to rescue Princess Fiona to be Farquaad’s bride. Rescuing the Princess may be small compared to her deep\, dark secret.”
URL:https://www.wakefield.org.nz/event/outdoor-movie-night-shrek/
CATEGORIES:Outdoor Movies
ATTACH;FMTTYPE=image/jpeg:https://www.wakefield.org.nz/wp-content/uploads/sites/430/2024/11/movie.jpg
END:VEVENT
BEGIN:VEVENT
DTSTART;TZID=Pacific/Auckland:20241129T193000
DTEND;TZID=Pacific/Auckland:20241207T193000
DTSTAMP:20260421T200053
CREATED:20241014T082722Z
LAST-MODIFIED:20241014T082722Z
UID:11414-1732908600-1733599800@www.wakefield.org.nz
SUMMARY:Sense and Sensibility
DESCRIPTION:
URL:https://www.wakefield.org.nz/event/sense-and-sensibility/
LOCATION:Wakefield Hall\, 10 Whitby Way\, Wakefield\, New Zealand
CATEGORIES:Dance & Drama
ATTACH;FMTTYPE=image/jpeg:https://www.wakefield.org.nz/wp-content/uploads/sites/430/2024/10/Sense.jpg
END:VEVENT
END:VCALENDAR