BEGIN:VCALENDAR
VERSION:2.0
PRODID:-//Wakefield Village - ECPv6.15.18//NONSGML v1.0//EN
CALSCALE:GREGORIAN
METHOD:PUBLISH
X-WR-CALNAME:Wakefield Village
X-ORIGINAL-URL:https://www.wakefield.org.nz
X-WR-CALDESC:Events for Wakefield Village
REFRESH-INTERVAL;VALUE=DURATION:PT1H
X-Robots-Tag:noindex
X-PUBLISHED-TTL:PT1H
BEGIN:VTIMEZONE
TZID:Pacific/Auckland
BEGIN:STANDARD
TZOFFSETFROM:+1300
TZOFFSETTO:+1200
TZNAME:NZST
DTSTART:20230401T140000
END:STANDARD
BEGIN:DAYLIGHT
TZOFFSETFROM:+1200
TZOFFSETTO:+1300
TZNAME:NZDT
DTSTART:20230923T140000
END:DAYLIGHT
BEGIN:STANDARD
TZOFFSETFROM:+1300
TZOFFSETTO:+1200
TZNAME:NZST
DTSTART:20240406T140000
END:STANDARD
BEGIN:DAYLIGHT
TZOFFSETFROM:+1200
TZOFFSETTO:+1300
TZNAME:NZDT
DTSTART:20240928T140000
END:DAYLIGHT
BEGIN:STANDARD
TZOFFSETFROM:+1300
TZOFFSETTO:+1200
TZNAME:NZST
DTSTART:20250405T140000
END:STANDARD
BEGIN:DAYLIGHT
TZOFFSETFROM:+1200
TZOFFSETTO:+1300
TZNAME:NZDT
DTSTART:20250927T140000
END:DAYLIGHT
END:VTIMEZONE
BEGIN:VEVENT
DTSTART;TZID=Pacific/Auckland:20241005T100000
DTEND;TZID=Pacific/Auckland:20241006T160000
DTSTAMP:20260421T141951
CREATED:20240918T095406Z
LAST-MODIFIED:20240918T095406Z
UID:11408-1728122400-1728230400@www.wakefield.org.nz
SUMMARY:Transport Fest at Higgins Park
DESCRIPTION:SAVE THIS DATE – October 5 & 6 for the Transport Fest\, “That’s Country” vintage\, classic\, military & modern vehicles displays. rides\, food\, and activities for all
URL:https://www.wakefield.org.nz/event/transport-fest-at-higgins-park/
LOCATION:Higgins Heritage Park\, 222 Pigeon Valley Rd\, Wakefield\, New Zealand
ATTACH;FMTTYPE=image/jpeg:https://www.wakefield.org.nz/wp-content/uploads/sites/430/2024/09/Higgins-1.jpg
END:VEVENT
BEGIN:VEVENT
DTSTART;TZID=Pacific/Auckland:20241006T100000
DTEND;TZID=Pacific/Auckland:20241006T150000
DTSTAMP:20260421T141951
CREATED:20240918T095052Z
LAST-MODIFIED:20240918T095052Z
UID:11406-1728208800-1728226800@www.wakefield.org.nz
SUMMARY:Willowbank Heritage Village Open day
DESCRIPTION:SUNDAY 6th October.10AM – 3PM\nWillow Bank Heritage Village is an affordable\, fun and interactive living museum 1km south of Wakefield. With 20+ shop displays for you to explore\, food & drink and lots more. A place to get dressed up\, to embrace the fun\, and immerse yourselves in times gone by.\nWe have actors who create a unique cultural experience offering various activities of the early 1900’s. Willowbank is ever growing and changing\, so there is most likely something new every visit!\nWe will have running: CHILDRENS SUITCASE MARKET – Come along and set up your suitcase stall under our sun shade\, stay as long as you like. No need to book.\n BARTER AND SELL MARKET – Please book your spot: info@willowbankwakefield.co.nz. A great opportunity to declutter or sell unused\, unwanted\, or handmade items etc.\n VICTORIAN SCHOOL EXPERIENCE – Mr Wilkinson will be running the classes\, please book outside the school house on the day. There will be a few sessions throughout the day. Not to be missed!\n CINEMA EXPERIENCE – Our cinema will be running throughout the open day\, by our experienced projectionist…watch a short film on our Super 8 Projector & Screen.\n DRESS UP AND LOOK THE PART – Want to immerse yourself in this experience? We’d love you to! Please pick up a map at the entrance and make your way to the dress shop. Find your character and step back in time. “Willow Bank is a stage and you are part of the play!”\n VICTORIAN CAFE – Enjoy an authentic Victorian style Coffee with delicious local Sublime Coffee\, brewed in a restored 100 year old espresso machine. If you prefer tea\, we have Pomeroys\, served in our beautiful China\, with tiny milk jugs\, and all the extras + Cakes\, Scones and home made jam\, and tea sandwiches. (We have many gluten free options!)\n 1950s BURGER BAR – Run by Deano’s Hotdogs\, offering a yummy variety of hotdogs\, chips and drinks if you are after something savoury.\n 1970s MILK BAR – Milkshakes\, Spiders & Icecreams available here.\n VILLAGE OPEN TO EXPLORE – This is an awesome experience that you can tailor yourself.\nEFTPOS AVAILABLE. ENTRY $7 per adult / $3 per child.\n\nWillow Bank Heritage Village\, Wakefield
URL:https://www.wakefield.org.nz/event/willowbank-heritage-village-open-day/
LOCATION:Willow Bank Heritage Village
CATEGORIES:History
ATTACH;FMTTYPE=image/jpeg:https://www.wakefield.org.nz/wp-content/uploads/sites/430/2024/09/WB.jpg
END:VEVENT
BEGIN:VEVENT
DTSTART;TZID=Pacific/Auckland:20241006T100000
DTEND;TZID=Pacific/Auckland:20241006T160000
DTSTAMP:20260421T141951
CREATED:20240918T094033Z
LAST-MODIFIED:20240918T094033Z
UID:11400-1728208800-1728230400@www.wakefield.org.nz
SUMMARY:Easy Life Health and Wellness Expo
DESCRIPTION:
URL:https://www.wakefield.org.nz/event/easy-life-health-and-wellness-expo/
LOCATION:Wakefield Hall\, 10 Whitby Way\, Wakefield\, New Zealand
CATEGORIES:Something Else!
ATTACH;FMTTYPE=image/jpeg:https://www.wakefield.org.nz/wp-content/uploads/sites/430/2024/09/easy-life.jpg
END:VEVENT
BEGIN:VEVENT
DTSTART;TZID=Pacific/Auckland:20241016T130000
DTEND;TZID=Pacific/Auckland:20241016T150000
DTSTAMP:20260421T141951
CREATED:20240918T094659Z
LAST-MODIFIED:20240918T094700Z
UID:11402-1729083600-1729090800@www.wakefield.org.nz
SUMMARY:Plunket's Coffee and Chat
DESCRIPTION:Join us for coffee and chat at the Villa Cafe in Wakefield on Wednesday 16th October. Plunket’s Community Karitane will be there to answer any questions you may have about your baby or toddler. Come along and connect with other local parents and caregivers in your community.\nAll welcome Look forward to seeing you there!
URL:https://www.wakefield.org.nz/event/plunkets-coffee-and-chat/
LOCATION:The Villa
CATEGORIES:Something Else!
ATTACH;FMTTYPE=image/jpeg:https://www.wakefield.org.nz/wp-content/uploads/sites/430/2024/09/plunket.jpg
END:VEVENT
BEGIN:VEVENT
DTSTART;TZID=Pacific/Auckland:20241016T130000
DTEND;TZID=Pacific/Auckland:20241016T150000
DTSTAMP:20260421T141951
CREATED:20241015T202152Z
LAST-MODIFIED:20241015T202210Z
UID:11419-1729083600-1729090800@www.wakefield.org.nz
SUMMARY:Coffee and Chat
DESCRIPTION:Join us for coffee & chat at the Villa Cafe in Wakefield this Wednesday 16th October 1-3pm. Plunket’s Community Karitane will be there to answer any questions you may have about your baby or toddler. Come along and connect with other local whanau in your community. All welcome. Look forward to seeing you there!
URL:https://www.wakefield.org.nz/event/coffee-and-chat/
LOCATION:The Villa
CATEGORIES:Something Else!
ATTACH;FMTTYPE=image/jpeg:https://www.wakefield.org.nz/wp-content/uploads/sites/430/2024/10/chAT.jpg
END:VEVENT
BEGIN:VEVENT
DTSTART;TZID=Pacific/Auckland:20241021T190000
DTEND;TZID=Pacific/Auckland:20241021T210000
DTSTAMP:20260421T141951
CREATED:20241019T071629Z
LAST-MODIFIED:20241019T071629Z
UID:11426-1729537200-1729544400@www.wakefield.org.nz
SUMMARY:Community Council meeting
DESCRIPTION:
URL:https://www.wakefield.org.nz/event/community-council-meeting/
LOCATION:Wakefield Hall\, 10 Whitby Way\, Wakefield\, New Zealand
CATEGORIES:Community Council
ATTACH;FMTTYPE=image/jpeg:https://www.wakefield.org.nz/wp-content/uploads/sites/430/2024/10/Comm-council.jpg
END:VEVENT
BEGIN:VEVENT
DTSTART;TZID=Pacific/Auckland:20241023T110000
DTEND;TZID=Pacific/Auckland:20241023T130000
DTSTAMP:20260421T141951
CREATED:20241015T201932Z
LAST-MODIFIED:20241015T201932Z
UID:11417-1729681200-1729688400@www.wakefield.org.nz
SUMMARY:Playspace Opening and Planting Day
DESCRIPTION:Exploration and investigation all with close links to the surrounding environment – that’s the concept for the upgraded playground opening next week at Faulkner Bush in Wakefield.\n\n\nPhase one of the development is largely aimed at the younger members of the community with new swings\, slides\, a roundabout and even a bespoke climbing wall with specially locally crafted rock hand holds.\n\n\n… But don’t worry\, the old flying fox\, loved by a generation of adventurous kids\, is still there.\n\n\nMuch of the equipment and accessories in this new community asset have been constructed in timber and designed to reflect the area’s special natural environment.\n\n\nThis project has been made possible by the tremendous support of the community with groups donating money and businesses stumping up with products and resources to help with the job.\n\n\nThe grand opening is at 11.00 am on Wednesday 23 October\, when Mayor Tim King will do the honours and officially cut the ribbon – bring a spade to help with planting and enjoy a sausage or two off the barbecue. Everyone’s invited.
URL:https://www.wakefield.org.nz/event/playspace-opening-and-planting-day/
LOCATION:Faulkners Bush
CATEGORIES:Parks & Reserves
ATTACH;FMTTYPE=image/jpeg:https://www.wakefield.org.nz/wp-content/uploads/sites/430/2024/10/playground.jpg
END:VEVENT
BEGIN:VEVENT
DTSTART;TZID=Pacific/Auckland:20241025T200000
DTEND;TZID=Pacific/Auckland:20241025T220000
DTSTAMP:20260421T141951
CREATED:20240714T213220Z
LAST-MODIFIED:20240714T213220Z
UID:11329-1729886400-1729893600@www.wakefield.org.nz
SUMMARY:Halloween at Willowbank
DESCRIPTION:Halloween at Willow Bank is BACK for 2024 for its 7th year. \nThe event is back\, bigger and better than any other year!!. We are happy to bring back the popular Haunted Village\, our scary and horror walk thru and the trick or Treat for the families and children.\nFriday 25th October\, 8pm – 10pmHaunted Village.\nSaturday 26th October\, 5pm – 7:00pm Trick or Treat.\n8pm – 10pm  Haunted Village.\nFood and drink Vendors will be available to cover all your hungry and thirsty needs. (Saturday only)\n\nThis event is family friendly\,  NO DRUGS\, NO ALCOHOL \nkeep an eye out for more information
URL:https://www.wakefield.org.nz/event/halloween-at-willowbank/
LOCATION:Willow Bank Heritage Village
CATEGORIES:Halloween
ATTACH;FMTTYPE=image/jpeg:https://www.wakefield.org.nz/wp-content/uploads/sites/430/2024/07/Halloween.jpg
END:VEVENT
BEGIN:VEVENT
DTSTART;TZID=Pacific/Auckland:20241026T170000
DTEND;TZID=Pacific/Auckland:20241026T220000
DTSTAMP:20260421T141951
CREATED:20240714T213352Z
LAST-MODIFIED:20240714T213352Z
UID:11331-1729962000-1729980000@www.wakefield.org.nz
SUMMARY:Halloween at Willowbank
DESCRIPTION:Halloween at Willow Bank is BACK for 2024 for its 7th year. \nThe event is back\, bigger and better than any other year!!. We are happy to bring back the popular Haunted Village\, our scary and horror walk thru and the trick or Treat for the families and children.\nFriday 25th October\, 8pm – 10pmHaunted Village.\nSaturday 26th October\, 5pm – 7:00pm Trick or Treat.\n8pm – 10pm  Haunted Village.\nFood and drink Vendors will be available to cover all your hungry and thirsty needs. (Saturday only)\n\nThis event is family friendly\,  NO DRUGS\, NO ALCOHOL \nkeep an eye out for more information
URL:https://www.wakefield.org.nz/event/halloween-at-willowbank-2/
LOCATION:Willow Bank Heritage Village
CATEGORIES:Halloween
ATTACH;FMTTYPE=image/jpeg:https://www.wakefield.org.nz/wp-content/uploads/sites/430/2024/07/Halloween.jpg
END:VEVENT
BEGIN:VEVENT
DTSTART;TZID=Pacific/Auckland:20241031T100000
DTEND;TZID=Pacific/Auckland:20241031T123000
DTSTAMP:20260421T141951
CREATED:20241016T082717Z
LAST-MODIFIED:20241016T082717Z
UID:11421-1730368800-1730377800@www.wakefield.org.nz
SUMMARY:Tour of Historic Wakefield Churches
DESCRIPTION:Something else to look forward to this spring – 31st October – Churches of Wakefield walk.
URL:https://www.wakefield.org.nz/event/tour-of-historic-wakefield-churches/
LOCATION:St Johns Church
CATEGORIES:History
ATTACH;FMTTYPE=image/jpeg:https://www.wakefield.org.nz/wp-content/uploads/sites/430/2024/10/eccelstaistical.jpg
END:VEVENT
END:VCALENDAR