BEGIN:VCALENDAR
VERSION:2.0
PRODID:-//Wakefield Village - ECPv6.15.18//NONSGML v1.0//EN
CALSCALE:GREGORIAN
METHOD:PUBLISH
X-WR-CALNAME:Wakefield Village
X-ORIGINAL-URL:https://www.wakefield.org.nz
X-WR-CALDESC:Events for Wakefield Village
REFRESH-INTERVAL;VALUE=DURATION:PT1H
X-Robots-Tag:noindex
X-PUBLISHED-TTL:PT1H
BEGIN:VTIMEZONE
TZID:Pacific/Auckland
BEGIN:STANDARD
TZOFFSETFROM:+1300
TZOFFSETTO:+1200
TZNAME:NZST
DTSTART:20230401T140000
END:STANDARD
BEGIN:DAYLIGHT
TZOFFSETFROM:+1200
TZOFFSETTO:+1300
TZNAME:NZDT
DTSTART:20230923T140000
END:DAYLIGHT
BEGIN:STANDARD
TZOFFSETFROM:+1300
TZOFFSETTO:+1200
TZNAME:NZST
DTSTART:20240406T140000
END:STANDARD
BEGIN:DAYLIGHT
TZOFFSETFROM:+1200
TZOFFSETTO:+1300
TZNAME:NZDT
DTSTART:20240928T140000
END:DAYLIGHT
BEGIN:STANDARD
TZOFFSETFROM:+1300
TZOFFSETTO:+1200
TZNAME:NZST
DTSTART:20250405T140000
END:STANDARD
BEGIN:DAYLIGHT
TZOFFSETFROM:+1200
TZOFFSETTO:+1300
TZNAME:NZDT
DTSTART:20250927T140000
END:DAYLIGHT
END:VTIMEZONE
BEGIN:VEVENT
DTSTART;TZID=Pacific/Auckland:20240910T190000
DTEND;TZID=Pacific/Auckland:20240910T191500
DTSTAMP:20260421T142215
CREATED:20240909T111007Z
LAST-MODIFIED:20240909T111007Z
UID:11391-1725994800-1725995700@www.wakefield.org.nz
SUMMARY:Wakefield Community Hub - Our Place
DESCRIPTION:It’s monthly meeting time again! You are welcome to attend the public forum 7:00 pm – 7:15 pm TOMORROW to meet with our steering group\, have your say and hear what’s happening. This is an informal opportunity for you to attend ahead of the steering group’s meeting.
URL:https://www.wakefield.org.nz/event/wakefield-community-hub-our-place/
LOCATION:Wakefield Fire Station
CATEGORIES:Wakefield Community Hub
ATTACH;FMTTYPE=image/jpeg:https://www.wakefield.org.nz/wp-content/uploads/sites/430/2024/09/Comm-Hub.jpg
END:VEVENT
END:VCALENDAR