BEGIN:VCALENDAR
VERSION:2.0
PRODID:-//Wakefield Village - ECPv6.15.18//NONSGML v1.0//EN
CALSCALE:GREGORIAN
METHOD:PUBLISH
X-WR-CALNAME:Wakefield Village
X-ORIGINAL-URL:https://www.wakefield.org.nz
X-WR-CALDESC:Events for Wakefield Village
REFRESH-INTERVAL;VALUE=DURATION:PT1H
X-Robots-Tag:noindex
X-PUBLISHED-TTL:PT1H
BEGIN:VTIMEZONE
TZID:Pacific/Auckland
BEGIN:STANDARD
TZOFFSETFROM:+1300
TZOFFSETTO:+1200
TZNAME:NZST
DTSTART:20230401T140000
END:STANDARD
BEGIN:DAYLIGHT
TZOFFSETFROM:+1200
TZOFFSETTO:+1300
TZNAME:NZDT
DTSTART:20230923T140000
END:DAYLIGHT
BEGIN:STANDARD
TZOFFSETFROM:+1300
TZOFFSETTO:+1200
TZNAME:NZST
DTSTART:20240406T140000
END:STANDARD
BEGIN:DAYLIGHT
TZOFFSETFROM:+1200
TZOFFSETTO:+1300
TZNAME:NZDT
DTSTART:20240928T140000
END:DAYLIGHT
BEGIN:STANDARD
TZOFFSETFROM:+1300
TZOFFSETTO:+1200
TZNAME:NZST
DTSTART:20250405T140000
END:STANDARD
BEGIN:DAYLIGHT
TZOFFSETFROM:+1200
TZOFFSETTO:+1300
TZNAME:NZDT
DTSTART:20250927T140000
END:DAYLIGHT
END:VTIMEZONE
BEGIN:VEVENT
DTSTART;TZID=Pacific/Auckland:20240813T183000
DTEND;TZID=Pacific/Auckland:20240813T210000
DTSTAMP:20260421T101834
CREATED:20240811T101932Z
LAST-MODIFIED:20240811T101932Z
UID:11363-1723573800-1723582800@www.wakefield.org.nz
SUMMARY:Little Sprig Quiz night - 'The Christmas Project'
DESCRIPTION:
URL:https://www.wakefield.org.nz/event/little-sprig-quiz-night-the-christmas-project/
LOCATION:Little Sprig\, Edward Street\, Wakefield\, New Zealand
CATEGORIES:Quiz Night
ATTACH;FMTTYPE=image/jpeg:https://www.wakefield.org.nz/wp-content/uploads/sites/430/2024/08/quiz-night-2.jpg
END:VEVENT
BEGIN:VEVENT
DTSTART;TZID=Pacific/Auckland:20240819T190000
DTEND;TZID=Pacific/Auckland:20240819T210000
DTSTAMP:20260421T101834
CREATED:20240815T101626Z
LAST-MODIFIED:20240815T101626Z
UID:11376-1724094000-1724101200@www.wakefield.org.nz
SUMMARY:Wakefield Community Council August meeting
DESCRIPTION:The Wakefield Community Council next monthly meeting is this coming Monday night\, 7pm at the Wakefield village hall. All are welcome.\n\n\nThis meeting we will have a update presentation from Sarah Arnold from Post Memory Heritage Trail on where the project is at and where it is going.
URL:https://www.wakefield.org.nz/event/wakefield-community-council-august-meeting/
LOCATION:Wakefield Hall\, 10 Whitby Way\, Wakefield\, New Zealand
CATEGORIES:Community Council
ATTACH;FMTTYPE=image/jpeg:https://www.wakefield.org.nz/wp-content/uploads/sites/430/2024/08/communityt-council.jpg
END:VEVENT
BEGIN:VEVENT
DTSTART;TZID=Pacific/Auckland:20240827T133000
DTEND;TZID=Pacific/Auckland:20240827T150000
DTSTAMP:20260421T101834
CREATED:20240811T101542Z
LAST-MODIFIED:20240813T074424Z
UID:11361-1724765400-1724770800@www.wakefield.org.nz
SUMMARY:Waimea South Historical Society -  Firefighter Terry Douglas
DESCRIPTION:
URL:https://www.wakefield.org.nz/event/waimea-south-historical-society-firefighter-terry-douglas/
LOCATION:Holy Trinity Community Centre\, 27 Dorset St\, Richmond.\, New Zealand
CATEGORIES:History
ATTACH;FMTTYPE=image/jpeg:https://www.wakefield.org.nz/wp-content/uploads/sites/430/2024/08/History.jpg
END:VEVENT
BEGIN:VEVENT
DTSTART;VALUE=DATE:20240831
DTEND;VALUE=DATE:20240902
DTSTAMP:20260421T101834
CREATED:20240725T095158Z
LAST-MODIFIED:20240814T104240Z
UID:11349-1725062400-1725235199@www.wakefield.org.nz
SUMMARY:Why Not Wakefield weekend
DESCRIPTION:Why Not visit Wakefield on the first weekend of spring?\nNot only is it Father’s Day\, but also the first of our summer open days.\nThere’s lots of fun for everyone in the family to enjoy.\nBut wait there’s more…collect 3 stamps from selected activities and go in the draw to win a unique Wakefield prize pack. This includes accommodation for 2 and a basket of local produce and vouchers to use in the village.\n\nA basic guide to the weekend’s events can be found below. Why not visit us in Wakefield?
URL:https://www.wakefield.org.nz/event/why-not-wakefield-weekend/
LOCATION:Wakefield Surrounds
CATEGORIES:Something Else!
ATTACH;FMTTYPE=image/jpeg:https://www.wakefield.org.nz/wp-content/uploads/sites/430/2024/07/Why-Not-1.jpg
END:VEVENT
END:VCALENDAR