BEGIN:VCALENDAR
VERSION:2.0
PRODID:-//Wakefield Village - ECPv6.15.18//NONSGML v1.0//EN
CALSCALE:GREGORIAN
METHOD:PUBLISH
X-WR-CALNAME:Wakefield Village
X-ORIGINAL-URL:https://www.wakefield.org.nz
X-WR-CALDESC:Events for Wakefield Village
REFRESH-INTERVAL;VALUE=DURATION:PT1H
X-Robots-Tag:noindex
X-PUBLISHED-TTL:PT1H
BEGIN:VTIMEZONE
TZID:Pacific/Auckland
BEGIN:STANDARD
TZOFFSETFROM:+1300
TZOFFSETTO:+1200
TZNAME:NZST
DTSTART:20230401T140000
END:STANDARD
BEGIN:DAYLIGHT
TZOFFSETFROM:+1200
TZOFFSETTO:+1300
TZNAME:NZDT
DTSTART:20230923T140000
END:DAYLIGHT
BEGIN:STANDARD
TZOFFSETFROM:+1300
TZOFFSETTO:+1200
TZNAME:NZST
DTSTART:20240406T140000
END:STANDARD
BEGIN:DAYLIGHT
TZOFFSETFROM:+1200
TZOFFSETTO:+1300
TZNAME:NZDT
DTSTART:20240928T140000
END:DAYLIGHT
BEGIN:STANDARD
TZOFFSETFROM:+1300
TZOFFSETTO:+1200
TZNAME:NZST
DTSTART:20250405T140000
END:STANDARD
BEGIN:DAYLIGHT
TZOFFSETFROM:+1200
TZOFFSETTO:+1300
TZNAME:NZDT
DTSTART:20250927T140000
END:DAYLIGHT
END:VTIMEZONE
BEGIN:VEVENT
DTSTART;TZID=Pacific/Auckland:20240604T183000
DTEND;TZID=Pacific/Auckland:20240604T210000
DTSTAMP:20260421T044357
CREATED:20240601T063352Z
LAST-MODIFIED:20240601T063352Z
UID:11269-1717525800-1717534800@www.wakefield.org.nz
SUMMARY:Sprig Quiz Night
DESCRIPTION:
URL:https://www.wakefield.org.nz/event/sprig-quiz-night/
LOCATION:Little Sprig\, Edward Street\, Wakefield\, New Zealand
CATEGORIES:Quiz Night
ATTACH;FMTTYPE=image/jpeg:https://www.wakefield.org.nz/wp-content/uploads/sites/430/2024/06/Hospice.jpg
END:VEVENT
BEGIN:VEVENT
DTSTART;TZID=Pacific/Auckland:20240605T193000
DTEND;TZID=Pacific/Auckland:20240605T210000
DTSTAMP:20260421T044357
CREATED:20240602T060830Z
LAST-MODIFIED:20240602T060830Z
UID:11273-1717615800-1717621200@www.wakefield.org.nz
SUMMARY:Wakefield Hotel Quiz Night
DESCRIPTION:
URL:https://www.wakefield.org.nz/event/wakefield-hotel-quiz-night-2/
LOCATION:Wakefield Hotel\, 48 Edward Street\, Wakefield\, New Zealand
CATEGORIES:Quiz Night
ATTACH;FMTTYPE=image/jpeg:https://www.wakefield.org.nz/wp-content/uploads/sites/430/2024/06/hotel.jpg
END:VEVENT
BEGIN:VEVENT
DTSTART;TZID=Pacific/Auckland:20240607T193000
DTEND;TZID=Pacific/Auckland:20240607T213000
DTSTAMP:20260421T044357
CREATED:20240429T210326Z
LAST-MODIFIED:20240429T210326Z
UID:11236-1717788600-1717795800@www.wakefield.org.nz
SUMMARY:She Kills Monsters show
DESCRIPTION:
URL:https://www.wakefield.org.nz/event/she-kills-monsters-show/
LOCATION:Wakefield Hall\, 10 Whitby Way\, Wakefield\, New Zealand
CATEGORIES:Dance & Drama
ATTACH;FMTTYPE=image/jpeg:https://www.wakefield.org.nz/wp-content/uploads/sites/430/2024/04/She-Kills-Monsters.jpg
END:VEVENT
BEGIN:VEVENT
DTSTART;TZID=Pacific/Auckland:20240608T100000
DTEND;TZID=Pacific/Auckland:20240608T120000
DTSTAMP:20260421T044357
CREATED:20240603T055152Z
LAST-MODIFIED:20240603T055246Z
UID:11276-1717840800-1717848000@www.wakefield.org.nz
SUMMARY:Wakefield Community Toy Library's Grand Re-Opening
DESCRIPTION:Hi Wakefield Community \n\n\nThis coming weekend we are having our grand reopening of the Wakefield Community Toy Library in the newly refurbished Wakefield Public Library building.\n\n\nWe hope you can join us to celebrate. \n\n\nhttps://facebook.com/events/s/toy-library-open-day/465751859201010/
URL:https://www.wakefield.org.nz/event/11276/
LOCATION:Wakefield Toy Library\, Edwards Street\, Wakefield\, New Zealand
CATEGORIES:Toy Library
ATTACH;FMTTYPE=image/jpeg:https://www.wakefield.org.nz/wp-content/uploads/sites/430/2024/06/toy.jpg
END:VEVENT
BEGIN:VEVENT
DTSTART;TZID=Pacific/Auckland:20240608T193000
DTEND;TZID=Pacific/Auckland:20240608T213000
DTSTAMP:20260421T044357
CREATED:20240429T210434Z
LAST-MODIFIED:20240429T210434Z
UID:11239-1717875000-1717882200@www.wakefield.org.nz
SUMMARY:She Kills Monsters show
DESCRIPTION:
URL:https://www.wakefield.org.nz/event/she-kills-monsters-show-2/
LOCATION:Wakefield Hall\, 10 Whitby Way\, Wakefield\, New Zealand
CATEGORIES:Dance & Drama
ATTACH;FMTTYPE=image/jpeg:https://www.wakefield.org.nz/wp-content/uploads/sites/430/2024/04/She-Kills-Monsters.jpg
END:VEVENT
BEGIN:VEVENT
DTSTART;TZID=Pacific/Auckland:20240609T140000
DTEND;TZID=Pacific/Auckland:20240609T163000
DTSTAMP:20260421T044357
CREATED:20240429T210612Z
LAST-MODIFIED:20240429T210612Z
UID:11240-1717941600-1717950600@www.wakefield.org.nz
SUMMARY:She Kills Monsters show
DESCRIPTION:
URL:https://www.wakefield.org.nz/event/she-kills-monsters-show-3/
LOCATION:Wakefield Hall\, 10 Whitby Way\, Wakefield\, New Zealand
CATEGORIES:Dance & Drama
ATTACH;FMTTYPE=image/jpeg:https://www.wakefield.org.nz/wp-content/uploads/sites/430/2024/04/She-Kills-Monsters.jpg
END:VEVENT
BEGIN:VEVENT
DTSTART;TZID=Pacific/Auckland:20240611T183000
DTEND;TZID=Pacific/Auckland:20240611T210000
DTSTAMP:20260421T044357
CREATED:20240609T092453Z
LAST-MODIFIED:20240609T092453Z
UID:11283-1718130600-1718139600@www.wakefield.org.nz
SUMMARY:Little Sprig Special Olympics Quiz Night Fundraiser
DESCRIPTION:QUIZ NIGHT!!!!\nThis week we have all our proceeds going to an absolutely amazing cause! We are raising money for the Nelson Special Olympics Team\, this lovely group run solely off donations\, and they are absolutely incredible people!\n\n\nBook your tables now as they are already filling up fast!
URL:https://www.wakefield.org.nz/event/little-sprig-special-olympics-quiz-night-fundraiser/
LOCATION:Little Sprig\, Edward Street\, Wakefield\, New Zealand
CATEGORIES:Quiz Night
ATTACH;FMTTYPE=image/jpeg:https://www.wakefield.org.nz/wp-content/uploads/sites/430/2024/06/Special-Olympics.jpg
END:VEVENT
BEGIN:VEVENT
DTSTART;TZID=Pacific/Auckland:20240611T190000
DTEND;TZID=Pacific/Auckland:20240611T203000
DTSTAMP:20260421T044357
CREATED:20240609T092139Z
LAST-MODIFIED:20240609T092139Z
UID:11281-1718132400-1718137800@www.wakefield.org.nz
SUMMARY:Wakefield Community Hub
DESCRIPTION:
URL:https://www.wakefield.org.nz/event/wakefield-community-hub/
LOCATION:Wakefield Fire Station
CATEGORIES:Wakefield Community Hub
ATTACH;FMTTYPE=image/jpeg:https://www.wakefield.org.nz/wp-content/uploads/sites/430/2024/06/Hub.jpg
END:VEVENT
BEGIN:VEVENT
DTSTART;TZID=Pacific/Auckland:20240612T193000
DTEND;TZID=Pacific/Auckland:20240612T213000
DTSTAMP:20260421T044357
CREATED:20240429T210740Z
LAST-MODIFIED:20240429T210740Z
UID:11241-1718220600-1718227800@www.wakefield.org.nz
SUMMARY:She Kills Monsters show
DESCRIPTION:
URL:https://www.wakefield.org.nz/event/she-kills-monsters-show-4/
LOCATION:Wakefield Hall\, 10 Whitby Way\, Wakefield\, New Zealand
CATEGORIES:Dance & Drama
ATTACH;FMTTYPE=image/jpeg:https://www.wakefield.org.nz/wp-content/uploads/sites/430/2024/04/She-Kills-Monsters.jpg
END:VEVENT
BEGIN:VEVENT
DTSTART;TZID=Pacific/Auckland:20240614T183000
DTEND;TZID=Pacific/Auckland:20240614T213000
DTSTAMP:20260421T044357
CREATED:20240502T095422Z
LAST-MODIFIED:20240502T095422Z
UID:11254-1718389800-1718400600@www.wakefield.org.nz
SUMMARY:Wakefield School PTA Quiz Night
DESCRIPTION:Hello community! The 2024 Wakefield School PTA quiz night is just around the corner\, so it’s time to think about getting a team together for a fabulous night of laughter and entertainment \nFood is provided in your ticket price and there will also be a bar\, raffles\, silent auctions and more so bring your cash! This is our second biggest fundraiser of the year\, so get your friends together and please come and support Wakefield School.\nTo register your team please fill in this form:\nhttps://docs.google.com/…/1FAIpQLSfM7JUqv7R…/viewform…\nWe are also looking for some awesome businesses to sponsor tables\, if you are interested in doing this you can find out more here:\nhttps://docs.google.com/…/1FAIpQLScMwg0XdaI…/viewform…\n\n\nThank you
URL:https://www.wakefield.org.nz/event/wakefield-school-pta-quiz-night-2/
LOCATION:Wakefield School
CATEGORIES:Quiz Night
ATTACH;FMTTYPE=image/jpeg:https://www.wakefield.org.nz/wp-content/uploads/sites/430/2024/05/wakefield-school.jpg
END:VEVENT
BEGIN:VEVENT
DTSTART;TZID=Pacific/Auckland:20240614T193000
DTEND;TZID=Pacific/Auckland:20240614T213000
DTSTAMP:20260421T044357
CREATED:20240429T211009Z
LAST-MODIFIED:20240429T211009Z
UID:11242-1718393400-1718400600@www.wakefield.org.nz
SUMMARY:She Kills Monsters show
DESCRIPTION:
URL:https://www.wakefield.org.nz/event/she-kills-monsters-show-5/
LOCATION:Wakefield Hall\, 10 Whitby Way\, Wakefield\, New Zealand
CATEGORIES:Dance & Drama
ATTACH;FMTTYPE=image/jpeg:https://www.wakefield.org.nz/wp-content/uploads/sites/430/2024/04/She-Kills-Monsters.jpg
END:VEVENT
BEGIN:VEVENT
DTSTART;TZID=Pacific/Auckland:20240615T193000
DTEND;TZID=Pacific/Auckland:20240615T213000
DTSTAMP:20260421T044357
CREATED:20240429T211130Z
LAST-MODIFIED:20240429T211130Z
UID:11243-1718479800-1718487000@www.wakefield.org.nz
SUMMARY:She Kills Monsters show
DESCRIPTION:
URL:https://www.wakefield.org.nz/event/she-kills-monsters-show-6/
LOCATION:Wakefield Hall\, 10 Whitby Way\, Wakefield\, New Zealand
CATEGORIES:Dance & Drama
ATTACH;FMTTYPE=image/jpeg:https://www.wakefield.org.nz/wp-content/uploads/sites/430/2024/04/She-Kills-Monsters.jpg
END:VEVENT
BEGIN:VEVENT
DTSTART;TZID=Pacific/Auckland:20240617T190000
DTEND;TZID=Pacific/Auckland:20240617T210000
DTSTAMP:20260421T044357
CREATED:20240613T082128Z
LAST-MODIFIED:20240613T082128Z
UID:11297-1718650800-1718658000@www.wakefield.org.nz
SUMMARY:Wakefield Community Council meeting
DESCRIPTION:
URL:https://www.wakefield.org.nz/event/wakefield-community-council-meeting-7/
LOCATION:Wakefield Hall\, 10 Whitby Way\, Wakefield\, New Zealand
CATEGORIES:Community Council
ATTACH;FMTTYPE=image/jpeg:https://www.wakefield.org.nz/wp-content/uploads/sites/430/2024/06/council.jpg
END:VEVENT
BEGIN:VEVENT
DTSTART;TZID=Pacific/Auckland:20240622T083000
DTEND;TZID=Pacific/Auckland:20240622T120000
DTSTAMP:20260421T044357
CREATED:20240609T095749Z
LAST-MODIFIED:20240609T095749Z
UID:11294-1719045000-1719057600@www.wakefield.org.nz
SUMMARY:Cycle Trail working Bee
DESCRIPTION:Calling out within our wonderful community \n Our 2nd cycle track working bee. \n\n\nThe Wakefield Community Council have partnered up with the  Tasman Great taste trail trust  to be guardians of the Pigeon Valley to Hoult Valley stretch of Cycle Track. Friends of the trail. This section of the trail\, is an incredible asset for our community but is in need of a tidy up.\n\n\nOur aim is to tidy up this section of the trail and plant native trees in certain areas which will enhance the trail for the community and also visitors alike.\n\n\nWe are looking for a team of beautiful people to join us in our SECOND working bee which is happening on Saturday 22nd June\, 8:30 am till 12pm. Weed eating team is what we aim to have this time around so please if your interested in volunteering a couple of hours\, please keep in touch. Sign up Is essential.\n\n\nWhat you need: weedeaters\, your own fuel\, water bottle and snacks.\n\n\nAny questions or keen to take part contact Richard Martin on 0272303098 or Julian Eggers on 0277718556 / eggers213@gmail.com\n\n\nThank you\n\n\nJulian Eggers\nChairperson\nWakefield Community Council
URL:https://www.wakefield.org.nz/event/cycle-trail-working-bee-2/
LOCATION:Wakefield Bridge
CATEGORIES:Community Council
ATTACH;FMTTYPE=image/jpeg:https://www.wakefield.org.nz/wp-content/uploads/sites/430/2024/06/cycle-trail.jpg
END:VEVENT
BEGIN:VEVENT
DTSTART;TZID=Pacific/Auckland:20240625T133000
DTEND;TZID=Pacific/Auckland:20240625T150000
DTSTAMP:20260421T044357
CREATED:20240609T094127Z
LAST-MODIFIED:20240609T094127Z
UID:11285-1719322200-1719327600@www.wakefield.org.nz
SUMMARY:Waimea South Historical Society
DESCRIPTION:
URL:https://www.wakefield.org.nz/event/waimea-south-historical-society/
LOCATION:Holy Trinity Community Centre\, 27 Dorset St\, Richmond.\, New Zealand
CATEGORIES:History
ATTACH;FMTTYPE=image/png:https://www.wakefield.org.nz/wp-content/uploads/sites/430/2024/06/Screenshot-2024-06-09-at-21-37-22-WOW-June-2024.pdf.png
END:VEVENT
BEGIN:VEVENT
DTSTART;TZID=Pacific/Auckland:20240630T160000
DTEND;TZID=Pacific/Auckland:20240630T190000
DTSTAMP:20260421T044357
CREATED:20240502T100456Z
LAST-MODIFIED:20240502T100456Z
UID:11258-1719763200-1719774000@www.wakefield.org.nz
SUMMARY:Rich and the Poor Boys
DESCRIPTION:
URL:https://www.wakefield.org.nz/event/rich-and-the-poor-boys/
LOCATION:Wakefield Hotel\, 48 Edward Street\, Wakefield\, New Zealand
CATEGORIES:Music
ATTACH;FMTTYPE=image/jpeg:https://www.wakefield.org.nz/wp-content/uploads/sites/430/2024/05/Rich.jpg
END:VEVENT
END:VCALENDAR