BEGIN:VCALENDAR
VERSION:2.0
PRODID:-//Wakefield Village - ECPv6.15.18//NONSGML v1.0//EN
CALSCALE:GREGORIAN
METHOD:PUBLISH
X-WR-CALNAME:Wakefield Village
X-ORIGINAL-URL:https://www.wakefield.org.nz
X-WR-CALDESC:Events for Wakefield Village
REFRESH-INTERVAL;VALUE=DURATION:PT1H
X-Robots-Tag:noindex
X-PUBLISHED-TTL:PT1H
BEGIN:VTIMEZONE
TZID:Pacific/Auckland
BEGIN:STANDARD
TZOFFSETFROM:+1300
TZOFFSETTO:+1200
TZNAME:NZST
DTSTART:20230401T140000
END:STANDARD
BEGIN:DAYLIGHT
TZOFFSETFROM:+1200
TZOFFSETTO:+1300
TZNAME:NZDT
DTSTART:20230923T140000
END:DAYLIGHT
BEGIN:STANDARD
TZOFFSETFROM:+1300
TZOFFSETTO:+1200
TZNAME:NZST
DTSTART:20240406T140000
END:STANDARD
BEGIN:DAYLIGHT
TZOFFSETFROM:+1200
TZOFFSETTO:+1300
TZNAME:NZDT
DTSTART:20240928T140000
END:DAYLIGHT
BEGIN:STANDARD
TZOFFSETFROM:+1300
TZOFFSETTO:+1200
TZNAME:NZST
DTSTART:20250405T140000
END:STANDARD
BEGIN:DAYLIGHT
TZOFFSETFROM:+1200
TZOFFSETTO:+1300
TZNAME:NZDT
DTSTART:20250927T140000
END:DAYLIGHT
END:VTIMEZONE
BEGIN:VEVENT
DTSTART;TZID=Pacific/Auckland:20240501T193000
DTEND;TZID=Pacific/Auckland:20240501T213000
DTSTAMP:20260421T025634
CREATED:20240430T090239Z
LAST-MODIFIED:20240430T090239Z
UID:11246-1714591800-1714599000@www.wakefield.org.nz
SUMMARY:Wakefield Hotel Quiz Night
DESCRIPTION:
URL:https://www.wakefield.org.nz/event/wakefield-hotel-quiz-night/
LOCATION:Wakefield Hotel\, 48 Edward Street\, Wakefield\, New Zealand
CATEGORIES:Quiz Night
ATTACH;FMTTYPE=image/jpeg:https://www.wakefield.org.nz/wp-content/uploads/sites/430/2024/04/Quiz-night.jpg
END:VEVENT
BEGIN:VEVENT
DTSTART;TZID=Pacific/Auckland:20240505T100000
DTEND;TZID=Pacific/Auckland:20240505T150000
DTSTAMP:20260421T025634
CREATED:20240227T103820Z
LAST-MODIFIED:20240429T205655Z
UID:11172-1714903200-1714921200@www.wakefield.org.nz
SUMMARY:Barter & Sell
DESCRIPTION:
URL:https://www.wakefield.org.nz/event/barter-sell-2/
LOCATION:Willow Bank Heritage Village
CATEGORIES:Car Boot Sale
ATTACH;FMTTYPE=image/jpeg:https://www.wakefield.org.nz/wp-content/uploads/sites/430/2024/04/willowbank-10.jpg
END:VEVENT
BEGIN:VEVENT
DTSTART;TZID=Pacific/Auckland:20240505T100000
DTEND;TZID=Pacific/Auckland:20240505T150000
DTSTAMP:20260421T025634
CREATED:20240429T205439Z
LAST-MODIFIED:20240429T205801Z
UID:11234-1714903200-1714921200@www.wakefield.org.nz
SUMMARY:Willow Bank Heritage Open day
DESCRIPTION:SUNDAY 5th MAY.10AM – 3PM\nLast open day of the season!\nWe will have running: CHILDRENS SUITCASE MARKET – Come along and set up your suitcase stall under our sun shade\, stay as long as you like. No need to book. Every child entrepreneur get a free ice cream!\n BARTER AND SELL MARKET – Please book your spot: willowbank2002@gmail.com. A great opportunity to declutter or sell unused\, unwanted\, or handmade items etc.\n VICTORIAN SCHOOL EXPERIENCE – Mr Wilkinson will be running the classes\, please book outside the school house on the day. There will be a few sessions throughout the day. Not to be missed!\n CINEMA EXPERIENCE – Our cinema will be running throughout the open day\, by our experienced projectionist…watch a short film on our Super 8 Projector & Screen.\n DRESS UP AND LOOK THE PART – Want to immerse yourself in this experience? We’d love you to! Please pick up a map at the entrance and make your way to the dress shop. Find your character and step back in time. “Willow Bank is a stage and you are part of the play!”\n VICTORIAN CAFE – Enjoy an authentic Victorian style Coffee with delicious local Sublime Coffee\, brewed in a restored 100 year old espresso machine. If you prefer tea\, we have Pomeroys\, served in our beautiful China\, with tiny milk jugs\, and all the extras + Cakes\, Scones and home made jam\, and tea sandwiches. (We have many gluten free options!)\n 1950s BURGER BAR – Run by Deano’s Hotdogs\, offering a yummy variety of hotdogs\, chips and drinks if you are after something savoury.\n 1970s MILK BAR – Milkshakes\, Spiders & Icecreams available here.\n VILLAGE OPEN TO EXPLORE – This is an awesome experience that you can tailor yourself. Here at Willow Bank we have a “Living Museum” So most things are available for you to look at up close\, you can get dressed up for your visit. We have over 20 shops in our village to be explored.\nEFTPOS AVAILABLE. ENTRY $7 per adult / $3 per child.
URL:https://www.wakefield.org.nz/event/willow-bank-heritage-open-day/
LOCATION:Willow Bank Heritage Village
CATEGORIES:History
ATTACH;FMTTYPE=image/jpeg:https://www.wakefield.org.nz/wp-content/uploads/sites/430/2024/04/willowbank-10.jpg
END:VEVENT
BEGIN:VEVENT
DTSTART;TZID=Pacific/Auckland:20240507T190000
DTEND;TZID=Pacific/Auckland:20240507T200000
DTSTAMP:20260421T025634
CREATED:20240502T094700Z
LAST-MODIFIED:20240502T094700Z
UID:11250-1715108400-1715112000@www.wakefield.org.nz
SUMMARY:Wakefield Community Hub - meet the Steering Committee
DESCRIPTION:
URL:https://www.wakefield.org.nz/event/wakefield-community-hub-meet-the-steering-committee/
LOCATION:Wakefield Fire Station
CATEGORIES:Wakefield Community Hub
ATTACH;FMTTYPE=image/jpeg:https://www.wakefield.org.nz/wp-content/uploads/sites/430/2024/05/Community-hub-1.jpg
END:VEVENT
BEGIN:VEVENT
DTSTART;TZID=Pacific/Auckland:20240514T183000
DTEND;TZID=Pacific/Auckland:20240514T203000
DTSTAMP:20260421T025634
CREATED:20240513T063811Z
LAST-MODIFIED:20240513T063811Z
UID:11261-1715711400-1715718600@www.wakefield.org.nz
SUMMARY:Garin College  swim team Quiz Night @ Little Sprig
DESCRIPTION:Get your teams ready! Next weeks quiz night is all about the Garin College swim team!
URL:https://www.wakefield.org.nz/event/garin-college-swim-team-quiz-night-little-sprig/
LOCATION:Little Sprig\, Edward Street\, Wakefield\, New Zealand
CATEGORIES:Quiz Night
ATTACH;FMTTYPE=image/jpeg:https://www.wakefield.org.nz/wp-content/uploads/sites/430/2024/05/Garin.jpg
END:VEVENT
BEGIN:VEVENT
DTSTART;TZID=Pacific/Auckland:20240515T190000
DTEND;TZID=Pacific/Auckland:20240515T210000
DTSTAMP:20260421T025634
CREATED:20240430T085737Z
LAST-MODIFIED:20240430T085737Z
UID:11244-1715799600-1715806800@www.wakefield.org.nz
SUMMARY:Wakefield Community Hub Draft Concept Design
DESCRIPTION:
URL:https://www.wakefield.org.nz/event/wakefield-community-hub-draft-concept-design/
LOCATION:Wakefield Hall\, 10 Whitby Way\, Wakefield\, New Zealand
CATEGORIES:Wakefield Community Hub
ATTACH;FMTTYPE=image/jpeg:https://www.wakefield.org.nz/wp-content/uploads/sites/430/2024/04/community-hub.jpg
END:VEVENT
BEGIN:VEVENT
DTSTART;TZID=Pacific/Auckland:20240518T080000
DTEND;TZID=Pacific/Auckland:20240518T120000
DTSTAMP:20260421T025634
CREATED:20240513T064818Z
LAST-MODIFIED:20240513T064818Z
UID:11266-1716019200-1716033600@www.wakefield.org.nz
SUMMARY:Cycle Trail working bee
DESCRIPTION:
URL:https://www.wakefield.org.nz/event/cycle-trail-working-bee/
LOCATION:Wakefield Bridge
ATTACH;FMTTYPE=image/jpeg:https://www.wakefield.org.nz/wp-content/uploads/sites/430/2024/05/Cycle-working-bee.jpg
END:VEVENT
BEGIN:VEVENT
DTSTART;TZID=Pacific/Auckland:20240519T160000
DTEND;TZID=Pacific/Auckland:20240519T190000
DTSTAMP:20260421T025634
CREATED:20240502T100214Z
LAST-MODIFIED:20240502T100214Z
UID:11256-1716134400-1716145200@www.wakefield.org.nz
SUMMARY:Jukejoint at the Wakefield Hotel
DESCRIPTION:Jukejoint return to The Wakefield Hotel for another Sunday afternoon cocktail of rocking Blues\, some British R&B\, with an added dash of Americana! Don’t miss this one.
URL:https://www.wakefield.org.nz/event/jukejoint-at-the-wakefield-hotel/
LOCATION:Wakefield Hotel\, 48 Edward Street\, Wakefield\, New Zealand
CATEGORIES:Music
ATTACH;FMTTYPE=image/jpeg:https://www.wakefield.org.nz/wp-content/uploads/sites/430/2024/05/Jukejoint.jpg
END:VEVENT
END:VCALENDAR