BEGIN:VCALENDAR
VERSION:2.0
PRODID:-//Wakefield Village - ECPv6.15.18//NONSGML v1.0//EN
CALSCALE:GREGORIAN
METHOD:PUBLISH
X-WR-CALNAME:Wakefield Village
X-ORIGINAL-URL:https://www.wakefield.org.nz
X-WR-CALDESC:Events for Wakefield Village
REFRESH-INTERVAL;VALUE=DURATION:PT1H
X-Robots-Tag:noindex
X-PUBLISHED-TTL:PT1H
BEGIN:VTIMEZONE
TZID:Pacific/Auckland
BEGIN:STANDARD
TZOFFSETFROM:+1300
TZOFFSETTO:+1200
TZNAME:NZST
DTSTART:20230401T140000
END:STANDARD
BEGIN:DAYLIGHT
TZOFFSETFROM:+1200
TZOFFSETTO:+1300
TZNAME:NZDT
DTSTART:20230923T140000
END:DAYLIGHT
BEGIN:STANDARD
TZOFFSETFROM:+1300
TZOFFSETTO:+1200
TZNAME:NZST
DTSTART:20240406T140000
END:STANDARD
BEGIN:DAYLIGHT
TZOFFSETFROM:+1200
TZOFFSETTO:+1300
TZNAME:NZDT
DTSTART:20240928T140000
END:DAYLIGHT
BEGIN:STANDARD
TZOFFSETFROM:+1300
TZOFFSETTO:+1200
TZNAME:NZST
DTSTART:20250405T140000
END:STANDARD
BEGIN:DAYLIGHT
TZOFFSETFROM:+1200
TZOFFSETTO:+1300
TZNAME:NZDT
DTSTART:20250927T140000
END:DAYLIGHT
END:VTIMEZONE
BEGIN:VEVENT
DTSTART;TZID=Pacific/Auckland:20240515T190000
DTEND;TZID=Pacific/Auckland:20240515T210000
DTSTAMP:20260421T025649
CREATED:20240430T085737Z
LAST-MODIFIED:20240430T085737Z
UID:11244-1715799600-1715806800@www.wakefield.org.nz
SUMMARY:Wakefield Community Hub Draft Concept Design
DESCRIPTION:
URL:https://www.wakefield.org.nz/event/wakefield-community-hub-draft-concept-design/
LOCATION:Wakefield Hall\, 10 Whitby Way\, Wakefield\, New Zealand
CATEGORIES:Wakefield Community Hub
ATTACH;FMTTYPE=image/jpeg:https://www.wakefield.org.nz/wp-content/uploads/sites/430/2024/04/community-hub.jpg
END:VEVENT
END:VCALENDAR