BEGIN:VCALENDAR
VERSION:2.0
PRODID:-//Wakefield Village - ECPv6.15.18//NONSGML v1.0//EN
CALSCALE:GREGORIAN
METHOD:PUBLISH
X-WR-CALNAME:Wakefield Village
X-ORIGINAL-URL:https://www.wakefield.org.nz
X-WR-CALDESC:Events for Wakefield Village
REFRESH-INTERVAL;VALUE=DURATION:PT1H
X-Robots-Tag:noindex
X-PUBLISHED-TTL:PT1H
BEGIN:VTIMEZONE
TZID:Pacific/Auckland
BEGIN:STANDARD
TZOFFSETFROM:+1300
TZOFFSETTO:+1200
TZNAME:NZST
DTSTART:20230401T140000
END:STANDARD
BEGIN:DAYLIGHT
TZOFFSETFROM:+1200
TZOFFSETTO:+1300
TZNAME:NZDT
DTSTART:20230923T140000
END:DAYLIGHT
BEGIN:STANDARD
TZOFFSETFROM:+1300
TZOFFSETTO:+1200
TZNAME:NZST
DTSTART:20240406T140000
END:STANDARD
BEGIN:DAYLIGHT
TZOFFSETFROM:+1200
TZOFFSETTO:+1300
TZNAME:NZDT
DTSTART:20240928T140000
END:DAYLIGHT
BEGIN:STANDARD
TZOFFSETFROM:+1300
TZOFFSETTO:+1200
TZNAME:NZST
DTSTART:20250405T140000
END:STANDARD
BEGIN:DAYLIGHT
TZOFFSETFROM:+1200
TZOFFSETTO:+1300
TZNAME:NZDT
DTSTART:20250927T140000
END:DAYLIGHT
END:VTIMEZONE
BEGIN:VEVENT
DTSTART;TZID=Pacific/Auckland:20240428T103000
DTEND;TZID=Pacific/Auckland:20240428T113000
DTSTAMP:20260420T213841
CREATED:20240424T105857Z
LAST-MODIFIED:20240424T105918Z
UID:11228-1714300200-1714303800@www.wakefield.org.nz
SUMMARY:Playground Drop in session
DESCRIPTION:We have a Drop in Session for anyone interested in hearing about the Faulkner Bush play space project stage 1 and get any questions answered. There have been some uncertainty within our community about what is planned for stage 1\, so we are making an opportunity to meet and discuss with YOU our community about this exciting project. Come out\, we will be down in Faulkner Bush before and at the start of the Amazing Race activity put on by the parks team which starts at 12pm.
URL:https://www.wakefield.org.nz/event/playground-drop-in-session/
LOCATION:Faulkners Bush
CATEGORIES:Community Council
ATTACH;FMTTYPE=image/png:https://www.wakefield.org.nz/wp-content/uploads/sites/430/2024/04/Screenshot-2024-04-24-225454.png
END:VEVENT
BEGIN:VEVENT
DTSTART;TZID=Pacific/Auckland:20240428T120000
DTEND;TZID=Pacific/Auckland:20240428T140000
DTSTAMP:20260420T213841
CREATED:20240321T083503Z
LAST-MODIFIED:20240321T083503Z
UID:11199-1714305600-1714312800@www.wakefield.org.nz
SUMMARY:Amazing Race and Activities Trailer
DESCRIPTION:Get ready for an action-packed afternoon of adventure! An experience that will have you and your entire family racing through the reserve’s stunning landscapes.
URL:https://www.wakefield.org.nz/event/amazing-race-and-activities-trailer/
LOCATION:Faulkners Bush
CATEGORIES:Sport
ATTACH;FMTTYPE=image/jpeg:https://www.wakefield.org.nz/wp-content/uploads/sites/430/2024/03/Amazing-Race.jpg
END:VEVENT
END:VCALENDAR