BEGIN:VCALENDAR
VERSION:2.0
PRODID:-//Wakefield Village - ECPv6.15.18//NONSGML v1.0//EN
CALSCALE:GREGORIAN
METHOD:PUBLISH
X-WR-CALNAME:Wakefield Village
X-ORIGINAL-URL:https://www.wakefield.org.nz
X-WR-CALDESC:Events for Wakefield Village
REFRESH-INTERVAL;VALUE=DURATION:PT1H
X-Robots-Tag:noindex
X-PUBLISHED-TTL:PT1H
BEGIN:VTIMEZONE
TZID:Pacific/Auckland
BEGIN:STANDARD
TZOFFSETFROM:+1300
TZOFFSETTO:+1200
TZNAME:NZST
DTSTART:20230401T140000
END:STANDARD
BEGIN:DAYLIGHT
TZOFFSETFROM:+1200
TZOFFSETTO:+1300
TZNAME:NZDT
DTSTART:20230923T140000
END:DAYLIGHT
BEGIN:STANDARD
TZOFFSETFROM:+1300
TZOFFSETTO:+1200
TZNAME:NZST
DTSTART:20240406T140000
END:STANDARD
BEGIN:DAYLIGHT
TZOFFSETFROM:+1200
TZOFFSETTO:+1300
TZNAME:NZDT
DTSTART:20240928T140000
END:DAYLIGHT
BEGIN:STANDARD
TZOFFSETFROM:+1300
TZOFFSETTO:+1200
TZNAME:NZST
DTSTART:20250405T140000
END:STANDARD
BEGIN:DAYLIGHT
TZOFFSETFROM:+1200
TZOFFSETTO:+1300
TZNAME:NZDT
DTSTART:20250927T140000
END:DAYLIGHT
END:VTIMEZONE
BEGIN:VEVENT
DTSTART;TZID=Pacific/Auckland:20240421T100000
DTEND;TZID=Pacific/Auckland:20240421T160000
DTSTAMP:20260421T013423
CREATED:20240314T080844Z
LAST-MODIFIED:20240314T080844Z
UID:11191-1713693600-1713715200@www.wakefield.org.nz
SUMMARY:Rural Resilience Expo
DESCRIPTION:The Rural Resilience Expo on Sunday\, April 21st\, at Higgins Heritage Park in Wakefield\, from 10am till 4pm\, emphasizes readiness and preparedness while encouraging vital conversations within households\, neighborhoods\, and communities. With the presence of civil defense\, police\, FENZ\, and other key organizations\, attendees can gather valuable information. The event will also offer food and drink\, information stall sites\, workshops\, and practical activities suitable for family\, friends\, and children. It’s a comprehensive and inclusive initiative for fostering resilience in rural areas. \n\n\nMore information\, check out our Facebook event by clicking the link below. https://www.facebook.com/share/CK2BycJxKMAezWib/?mibextid=9VsGKo
URL:https://www.wakefield.org.nz/event/rural-resilience-expo/
LOCATION:Higgins Heritage Park\, 222 Pigeon Valley Rd\, Wakefield\, New Zealand
CATEGORIES:Community Council
ATTACH;FMTTYPE=image/jpeg:https://www.wakefield.org.nz/wp-content/uploads/sites/430/2024/03/Rural-Expo.jpg
END:VEVENT
END:VCALENDAR