BEGIN:VCALENDAR
VERSION:2.0
PRODID:-//Wakefield Village - ECPv6.15.18//NONSGML v1.0//EN
CALSCALE:GREGORIAN
METHOD:PUBLISH
X-WR-CALNAME:Wakefield Village
X-ORIGINAL-URL:https://www.wakefield.org.nz
X-WR-CALDESC:Events for Wakefield Village
REFRESH-INTERVAL;VALUE=DURATION:PT1H
X-Robots-Tag:noindex
X-PUBLISHED-TTL:PT1H
BEGIN:VTIMEZONE
TZID:Pacific/Auckland
BEGIN:STANDARD
TZOFFSETFROM:+1300
TZOFFSETTO:+1200
TZNAME:NZST
DTSTART:20230401T140000
END:STANDARD
BEGIN:DAYLIGHT
TZOFFSETFROM:+1200
TZOFFSETTO:+1300
TZNAME:NZDT
DTSTART:20230923T140000
END:DAYLIGHT
BEGIN:STANDARD
TZOFFSETFROM:+1300
TZOFFSETTO:+1200
TZNAME:NZST
DTSTART:20240406T140000
END:STANDARD
BEGIN:DAYLIGHT
TZOFFSETFROM:+1200
TZOFFSETTO:+1300
TZNAME:NZDT
DTSTART:20240928T140000
END:DAYLIGHT
BEGIN:STANDARD
TZOFFSETFROM:+1300
TZOFFSETTO:+1200
TZNAME:NZST
DTSTART:20250405T140000
END:STANDARD
BEGIN:DAYLIGHT
TZOFFSETFROM:+1200
TZOFFSETTO:+1300
TZNAME:NZDT
DTSTART:20250927T140000
END:DAYLIGHT
END:VTIMEZONE
BEGIN:VEVENT
DTSTART;TZID=Pacific/Auckland:20240415T190000
DTEND;TZID=Pacific/Auckland:20240415T210000
DTSTAMP:20260421T044536
CREATED:20240408T093249Z
LAST-MODIFIED:20240408T093249Z
UID:11211-1713207600-1713214800@www.wakefield.org.nz
SUMMARY:Wakefield Community Council Meeting
DESCRIPTION:Next Monday 15th April\, the Wakefield Community Council is meeting for its monthly public meeting. Meeting is held at the Wakefield village hall\, 7pm. All are welcome. \nWe are a avenue to raise concerns\, issues or matters arising in our community. We have our ward Councillors who attend monthly to give advice from Council perspective and take concerns forward to Council. \nWe have the TDC LTP 10 year plan presentation by the TDC\, that all are welcome to attend. Hear what is proposed and have your say via a submission. \nWe would love to meet you at one of our meetings.\nOur community\, our council \nJulian Eggers\nChairperson\nWakefield Community Council
URL:https://www.wakefield.org.nz/event/wakefield-community-council-meeting-6/
LOCATION:Wakefield Hall\, 10 Whitby Way\, Wakefield\, New Zealand
CATEGORIES:Community Council
ATTACH;FMTTYPE=image/jpeg:https://www.wakefield.org.nz/wp-content/uploads/sites/430/2024/04/Comm-council.jpg
END:VEVENT
END:VCALENDAR