BEGIN:VCALENDAR
VERSION:2.0
PRODID:-//Wakefield Village - ECPv6.15.18//NONSGML v1.0//EN
CALSCALE:GREGORIAN
METHOD:PUBLISH
X-WR-CALNAME:Wakefield Village
X-ORIGINAL-URL:https://www.wakefield.org.nz
X-WR-CALDESC:Events for Wakefield Village
REFRESH-INTERVAL;VALUE=DURATION:PT1H
X-Robots-Tag:noindex
X-PUBLISHED-TTL:PT1H
BEGIN:VTIMEZONE
TZID:Pacific/Auckland
BEGIN:STANDARD
TZOFFSETFROM:+1300
TZOFFSETTO:+1200
TZNAME:NZST
DTSTART:20230401T140000
END:STANDARD
BEGIN:DAYLIGHT
TZOFFSETFROM:+1200
TZOFFSETTO:+1300
TZNAME:NZDT
DTSTART:20230923T140000
END:DAYLIGHT
BEGIN:STANDARD
TZOFFSETFROM:+1300
TZOFFSETTO:+1200
TZNAME:NZST
DTSTART:20240406T140000
END:STANDARD
BEGIN:DAYLIGHT
TZOFFSETFROM:+1200
TZOFFSETTO:+1300
TZNAME:NZDT
DTSTART:20240928T140000
END:DAYLIGHT
BEGIN:STANDARD
TZOFFSETFROM:+1300
TZOFFSETTO:+1200
TZNAME:NZST
DTSTART:20250405T140000
END:STANDARD
BEGIN:DAYLIGHT
TZOFFSETFROM:+1200
TZOFFSETTO:+1300
TZNAME:NZDT
DTSTART:20250927T140000
END:DAYLIGHT
END:VTIMEZONE
BEGIN:VEVENT
DTSTART;TZID=Pacific/Auckland:20240303T100000
DTEND;TZID=Pacific/Auckland:20240303T150000
DTSTAMP:20260421T013339
CREATED:20240227T103321Z
LAST-MODIFIED:20240227T103321Z
UID:11167-1709460000-1709478000@www.wakefield.org.nz
SUMMARY:Children's Suitcase Market
DESCRIPTION:
URL:https://www.wakefield.org.nz/event/childrens-suitcase-market-2/
LOCATION:Willow Bank Heritage Village
CATEGORIES:History
END:VEVENT
BEGIN:VEVENT
DTSTART;TZID=Pacific/Auckland:20240303T100000
DTEND;TZID=Pacific/Auckland:20240303T150000
DTSTAMP:20260421T013339
CREATED:20240227T103609Z
LAST-MODIFIED:20240227T103609Z
UID:11169-1709460000-1709478000@www.wakefield.org.nz
SUMMARY:Barter and Sell
DESCRIPTION:
URL:https://www.wakefield.org.nz/event/barter-and-sell/
LOCATION:Willow Bank Heritage Village
CATEGORIES:Car Boot Sale
END:VEVENT
BEGIN:VEVENT
DTSTART;TZID=Pacific/Auckland:20240303T100000
DTEND;TZID=Pacific/Auckland:20240303T150000
DTSTAMP:20260421T013339
CREATED:20240227T104047Z
LAST-MODIFIED:20240227T104128Z
UID:11173-1709460000-1709478000@www.wakefield.org.nz
SUMMARY:Willowbank Open Day
DESCRIPTION:
URL:https://www.wakefield.org.nz/event/willowbank-open-day/
LOCATION:Willow Bank Heritage Village
CATEGORIES:History
END:VEVENT
BEGIN:VEVENT
DTSTART;TZID=Pacific/Auckland:20240322T193000
DTEND;TZID=Pacific/Auckland:20240322T213000
DTSTAMP:20260421T013339
CREATED:20240227T104543Z
LAST-MODIFIED:20240227T105040Z
UID:11175-1711135800-1711143000@www.wakefield.org.nz
SUMMARY:Compelling Drama: Under. Performed by Chris Green
DESCRIPTION:
URL:https://www.wakefield.org.nz/event/compelling-drama-under-performed-by-chris-green/
LOCATION:Wakefield Hall\, 10 Whitby Way\, Wakefield\, New Zealand
CATEGORIES:Dance & Drama
END:VEVENT
BEGIN:VEVENT
DTSTART;TZID=Pacific/Auckland:20240323T100000
DTEND;TZID=Pacific/Auckland:20240323T150000
DTSTAMP:20260421T013339
CREATED:20240321T082908Z
LAST-MODIFIED:20240321T082908Z
UID:11195-1711188000-1711206000@www.wakefield.org.nz
SUMMARY:Nelson Vintage Engine Machinery Club Show Days
DESCRIPTION:The annual Nelson Vintage Engine Machinery Club great show days are on this weekend 23rd & 24th March at the park\, this year featuring the Farmall tractor. Along with the big range of Farmall’s come and check out other rare tractors including the R&P and Munktell. There will be vintage machinery in action\, food and activities for an interesting and enjoyable time for all.
URL:https://www.wakefield.org.nz/event/nelson-vintage-engine-machinery-club-show-days/
LOCATION:Higgins Heritage Park\, 222 Pigeon Valley Rd\, Wakefield\, New Zealand
CATEGORIES:History
ATTACH;FMTTYPE=image/jpeg:https://www.wakefield.org.nz/wp-content/uploads/sites/430/2024/03/Higgins.jpg
END:VEVENT
BEGIN:VEVENT
DTSTART;TZID=Pacific/Auckland:20240323T193000
DTEND;TZID=Pacific/Auckland:20240323T210000
DTSTAMP:20260421T013339
CREATED:20240227T104809Z
LAST-MODIFIED:20240227T104809Z
UID:11177-1711222200-1711227600@www.wakefield.org.nz
SUMMARY:Compelling Drama: Under. Performed by Chris Green
DESCRIPTION:
URL:https://www.wakefield.org.nz/event/compelling-drama-under-performed-by-chris-green-2/
LOCATION:Wakefield Hall\, 10 Whitby Way\, Wakefield\, New Zealand
CATEGORIES:Dance & Drama
END:VEVENT
BEGIN:VEVENT
DTSTART;TZID=Pacific/Auckland:20240324T100000
DTEND;TZID=Pacific/Auckland:20240324T150000
DTSTAMP:20260421T013339
CREATED:20240321T083054Z
LAST-MODIFIED:20240321T083054Z
UID:11198-1711274400-1711292400@www.wakefield.org.nz
SUMMARY:Nelson Vintage Engine Machinery Club Show Days
DESCRIPTION:The annual Nelson Vintage Engine Machinery Club great show days are on this weekend 23rd & 24th March at the park\, this year featuring the Farmall tractor. Along with the big range of Farmall’s come and check out other rare tractors including the R&P and Munktell. There will be vintage machinery in action\, food and activities for an interesting and enjoyable time for all.
URL:https://www.wakefield.org.nz/event/nelson-vintage-engine-machinery-club-show-days-2/
LOCATION:Higgins Heritage Park\, 222 Pigeon Valley Rd\, Wakefield\, New Zealand
CATEGORIES:History
ATTACH;FMTTYPE=image/jpeg:https://www.wakefield.org.nz/wp-content/uploads/sites/430/2024/03/Higgins.jpg
END:VEVENT
BEGIN:VEVENT
DTSTART;TZID=Pacific/Auckland:20240324T140000
DTEND;TZID=Pacific/Auckland:20240324T163000
DTSTAMP:20260421T013339
CREATED:20240227T104914Z
LAST-MODIFIED:20240227T104914Z
UID:11180-1711288800-1711297800@www.wakefield.org.nz
SUMMARY:Compelling Drama: Under. Performed by Chris Green
DESCRIPTION:
URL:https://www.wakefield.org.nz/event/compelling-drama-under-performed-by-chris-green-3/
LOCATION:Wakefield Hall\, 10 Whitby Way\, Wakefield\, New Zealand
CATEGORIES:Dance & Drama
END:VEVENT
BEGIN:VEVENT
DTSTART;TZID=Pacific/Auckland:20240326T133000
DTEND;TZID=Pacific/Auckland:20240326T153000
DTSTAMP:20260421T013339
CREATED:20240310T081625Z
LAST-MODIFIED:20240310T081625Z
UID:11186-1711459800-1711467000@www.wakefield.org.nz
SUMMARY:Waimea South Historical Society March meeting
DESCRIPTION:The Costellos will tell us the history of their award winning Olive Oil Venture\, plus share information about an earlier owner Francis Waterhouse\, his successful shop and its location. We can also wander the gardens of this beautifully restored old home. \nBring a folding chair if you lik. \nPlease call 0211388537 if attending\, to confirm numbers
URL:https://www.wakefield.org.nz/event/waimea-south-historical-society-march-meeting/
LOCATION:Villa Grove Estate
CATEGORIES:History
ATTACH;FMTTYPE=image/jpeg:https://www.wakefield.org.nz/wp-content/uploads/sites/430/2024/02/Waimea-south-historical-Society-inc.jpg
END:VEVENT
BEGIN:VEVENT
DTSTART;TZID=Pacific/Auckland:20240330T100000
DTEND;TZID=Pacific/Auckland:20240330T150000
DTSTAMP:20260421T013339
CREATED:20240314T080349Z
LAST-MODIFIED:20240321T080250Z
UID:11189-1711792800-1711810800@www.wakefield.org.nz
SUMMARY:Easter Market
DESCRIPTION:
URL:https://www.wakefield.org.nz/event/easter-market/
CATEGORIES:Market
ATTACH;FMTTYPE=image/png:https://www.wakefield.org.nz/wp-content/uploads/sites/430/2024/03/Screenshot-2024-03-14-at-21-01-46-Wakefield-Community-NZ-Facebook.png
END:VEVENT
END:VCALENDAR