BEGIN:VCALENDAR
VERSION:2.0
PRODID:-//Wakefield Village - ECPv6.15.18//NONSGML v1.0//EN
CALSCALE:GREGORIAN
METHOD:PUBLISH
X-WR-CALNAME:Wakefield Village
X-ORIGINAL-URL:https://www.wakefield.org.nz
X-WR-CALDESC:Events for Wakefield Village
REFRESH-INTERVAL;VALUE=DURATION:PT1H
X-Robots-Tag:noindex
X-PUBLISHED-TTL:PT1H
BEGIN:VTIMEZONE
TZID:Pacific/Auckland
BEGIN:STANDARD
TZOFFSETFROM:+1300
TZOFFSETTO:+1200
TZNAME:NZST
DTSTART:20230401T140000
END:STANDARD
BEGIN:DAYLIGHT
TZOFFSETFROM:+1200
TZOFFSETTO:+1300
TZNAME:NZDT
DTSTART:20230923T140000
END:DAYLIGHT
BEGIN:STANDARD
TZOFFSETFROM:+1300
TZOFFSETTO:+1200
TZNAME:NZST
DTSTART:20240406T140000
END:STANDARD
BEGIN:DAYLIGHT
TZOFFSETFROM:+1200
TZOFFSETTO:+1300
TZNAME:NZDT
DTSTART:20240928T140000
END:DAYLIGHT
BEGIN:STANDARD
TZOFFSETFROM:+1300
TZOFFSETTO:+1200
TZNAME:NZST
DTSTART:20250405T140000
END:STANDARD
BEGIN:DAYLIGHT
TZOFFSETFROM:+1200
TZOFFSETTO:+1300
TZNAME:NZDT
DTSTART:20250927T140000
END:DAYLIGHT
END:VTIMEZONE
BEGIN:VEVENT
DTSTART;TZID=Pacific/Auckland:20240326T133000
DTEND;TZID=Pacific/Auckland:20240326T153000
DTSTAMP:20260421T065331
CREATED:20240310T081625Z
LAST-MODIFIED:20240310T081625Z
UID:11186-1711459800-1711467000@www.wakefield.org.nz
SUMMARY:Waimea South Historical Society March meeting
DESCRIPTION:The Costellos will tell us the history of their award winning Olive Oil Venture\, plus share information about an earlier owner Francis Waterhouse\, his successful shop and its location. We can also wander the gardens of this beautifully restored old home. \nBring a folding chair if you lik. \nPlease call 0211388537 if attending\, to confirm numbers
URL:https://www.wakefield.org.nz/event/waimea-south-historical-society-march-meeting/
LOCATION:Villa Grove Estate
CATEGORIES:History
ATTACH;FMTTYPE=image/jpeg:https://www.wakefield.org.nz/wp-content/uploads/sites/430/2024/02/Waimea-south-historical-Society-inc.jpg
END:VEVENT
END:VCALENDAR