BEGIN:VCALENDAR
VERSION:2.0
PRODID:-//Wakefield Village - ECPv6.15.18//NONSGML v1.0//EN
CALSCALE:GREGORIAN
METHOD:PUBLISH
X-WR-CALNAME:Wakefield Village
X-ORIGINAL-URL:https://www.wakefield.org.nz
X-WR-CALDESC:Events for Wakefield Village
REFRESH-INTERVAL;VALUE=DURATION:PT1H
X-Robots-Tag:noindex
X-PUBLISHED-TTL:PT1H
BEGIN:VTIMEZONE
TZID:Pacific/Auckland
BEGIN:STANDARD
TZOFFSETFROM:+1300
TZOFFSETTO:+1200
TZNAME:NZST
DTSTART:20230401T140000
END:STANDARD
BEGIN:DAYLIGHT
TZOFFSETFROM:+1200
TZOFFSETTO:+1300
TZNAME:NZDT
DTSTART:20230923T140000
END:DAYLIGHT
BEGIN:STANDARD
TZOFFSETFROM:+1300
TZOFFSETTO:+1200
TZNAME:NZST
DTSTART:20240406T140000
END:STANDARD
BEGIN:DAYLIGHT
TZOFFSETFROM:+1200
TZOFFSETTO:+1300
TZNAME:NZDT
DTSTART:20240928T140000
END:DAYLIGHT
BEGIN:STANDARD
TZOFFSETFROM:+1300
TZOFFSETTO:+1200
TZNAME:NZST
DTSTART:20250405T140000
END:STANDARD
BEGIN:DAYLIGHT
TZOFFSETFROM:+1200
TZOFFSETTO:+1300
TZNAME:NZDT
DTSTART:20250927T140000
END:DAYLIGHT
END:VTIMEZONE
BEGIN:VEVENT
DTSTART;TZID=Pacific/Auckland:20240303T100000
DTEND;TZID=Pacific/Auckland:20240303T150000
DTSTAMP:20260421T065434
CREATED:20240227T103321Z
LAST-MODIFIED:20240227T103321Z
UID:11167-1709460000-1709478000@www.wakefield.org.nz
SUMMARY:Children's Suitcase Market
DESCRIPTION:
URL:https://www.wakefield.org.nz/event/childrens-suitcase-market-2/
LOCATION:Willow Bank Heritage Village
CATEGORIES:History
END:VEVENT
BEGIN:VEVENT
DTSTART;TZID=Pacific/Auckland:20240303T100000
DTEND;TZID=Pacific/Auckland:20240303T150000
DTSTAMP:20260421T065434
CREATED:20240227T103609Z
LAST-MODIFIED:20240227T103609Z
UID:11169-1709460000-1709478000@www.wakefield.org.nz
SUMMARY:Barter and Sell
DESCRIPTION:
URL:https://www.wakefield.org.nz/event/barter-and-sell/
LOCATION:Willow Bank Heritage Village
CATEGORIES:Car Boot Sale
END:VEVENT
BEGIN:VEVENT
DTSTART;TZID=Pacific/Auckland:20240303T100000
DTEND;TZID=Pacific/Auckland:20240303T150000
DTSTAMP:20260421T065434
CREATED:20240227T104047Z
LAST-MODIFIED:20240227T104128Z
UID:11173-1709460000-1709478000@www.wakefield.org.nz
SUMMARY:Willowbank Open Day
DESCRIPTION:
URL:https://www.wakefield.org.nz/event/willowbank-open-day/
LOCATION:Willow Bank Heritage Village
CATEGORIES:History
END:VEVENT
END:VCALENDAR