BEGIN:VCALENDAR
VERSION:2.0
PRODID:-//Wakefield Village - ECPv6.15.18//NONSGML v1.0//EN
CALSCALE:GREGORIAN
METHOD:PUBLISH
X-WR-CALNAME:Wakefield Village
X-ORIGINAL-URL:https://www.wakefield.org.nz
X-WR-CALDESC:Events for Wakefield Village
REFRESH-INTERVAL;VALUE=DURATION:PT1H
X-Robots-Tag:noindex
X-PUBLISHED-TTL:PT1H
BEGIN:VTIMEZONE
TZID:Pacific/Auckland
BEGIN:STANDARD
TZOFFSETFROM:+1300
TZOFFSETTO:+1200
TZNAME:NZST
DTSTART:20230401T140000
END:STANDARD
BEGIN:DAYLIGHT
TZOFFSETFROM:+1200
TZOFFSETTO:+1300
TZNAME:NZDT
DTSTART:20230923T140000
END:DAYLIGHT
BEGIN:STANDARD
TZOFFSETFROM:+1300
TZOFFSETTO:+1200
TZNAME:NZST
DTSTART:20240406T140000
END:STANDARD
BEGIN:DAYLIGHT
TZOFFSETFROM:+1200
TZOFFSETTO:+1300
TZNAME:NZDT
DTSTART:20240928T140000
END:DAYLIGHT
BEGIN:STANDARD
TZOFFSETFROM:+1300
TZOFFSETTO:+1200
TZNAME:NZST
DTSTART:20250405T140000
END:STANDARD
BEGIN:DAYLIGHT
TZOFFSETFROM:+1200
TZOFFSETTO:+1300
TZNAME:NZDT
DTSTART:20250927T140000
END:DAYLIGHT
END:VTIMEZONE
BEGIN:VEVENT
DTSTART;TZID=Pacific/Auckland:20240219T190000
DTEND;TZID=Pacific/Auckland:20240219T210000
DTSTAMP:20260421T031737
CREATED:20240215T083201Z
LAST-MODIFIED:20240215T083201Z
UID:11160-1708369200-1708376400@www.wakefield.org.nz
SUMMARY:Wakefield Community Council meeting
DESCRIPTION:Next Monday 19th February \, the Wakefield Community Council is meeting for the first time for 2024. Meeting is held at the Wakefield village hall\, 7pm. All are welcome.\n\n\nWe have invited the Council to attend to update us on the resent water infrastructure issues that we have gone through here in Wakefield in the past month.\n\n\nWe are a avenue to raise concerns\, issues or matters arising in our community. We have our ward Councillors who attend monthly to give advice from Council perspective and take concerns forward to Council.\n\n\nWe would love to meet you at our meeting.\nOur community\, our council
URL:https://www.wakefield.org.nz/event/wakefield-community-council-meeting-5/
LOCATION:Wakefield Hall\, 10 Whitby Way\, Wakefield\, New Zealand
CATEGORIES:Community Council
ATTACH;FMTTYPE=image/jpeg:https://www.wakefield.org.nz/wp-content/uploads/sites/430/2024/02/Community.jpg
END:VEVENT
BEGIN:VEVENT
DTSTART;TZID=Pacific/Auckland:20240224T120000
DTEND;TZID=Pacific/Auckland:20240224T170000
DTSTAMP:20260421T031737
CREATED:20240222T084041Z
LAST-MODIFIED:20240222T084108Z
UID:11162-1708776000-1708794000@www.wakefield.org.nz
SUMMARY:McGazzaland - Tasman Skate Park Series
DESCRIPTION:This summer Tasman Skatepark Series is showcasing the best talent on skateboards\, BMX bikes and scooters.\nAge groups range from Girls-Open to Junior (12 years and under)\, Intermediate (13-17 years)\, and Open (18 years and older).\nIt is a free community event with entries taken on the day.\nHelmets are compulsory for all competitors entering the competition.\nFollow us on Facebook and Instagram @Tasmanskate to be up to date with news and changes.\nThe tour is also visiting Motueka\, Richmond\, and Nelson.\nFunded by Tasman District Council\, Nelson City Council and sponsored by Village Cycles and Cheapskates Nelson.
URL:https://www.wakefield.org.nz/event/mcgazzaland-tasman-skate-park-series/
CATEGORIES:Sport
ATTACH;FMTTYPE=image/png:https://www.wakefield.org.nz/wp-content/uploads/sites/430/2024/02/McGazzaland.png
END:VEVENT
BEGIN:VEVENT
DTSTART;TZID=Pacific/Auckland:20240227T133000
DTEND;TZID=Pacific/Auckland:20240227T153000
DTSTAMP:20260421T031737
CREATED:20240215T082704Z
LAST-MODIFIED:20240215T082704Z
UID:11158-1709040600-1709047800@www.wakefield.org.nz
SUMMARY:Waimea South Historical Society Monthly Meeting
DESCRIPTION:The Waimea South Historical Society Inc invite interested people to our meeting on Tuesday 27th February at 1.30pm.\nThis will be held at the Holy Trinity Community Centre 27 Dorset St Richmond.\nCome along and hear about Wakefield’s new Self Guided Historical Walking Trail map with Bo Hensley.\nHear the story of how the map was developed and the benefits of using this new resource. Come and understand all that Wakefield has to offer.\nIf more detail needed please text or call 021 542 338
URL:https://www.wakefield.org.nz/event/waimea-south-historical-society-monthly-meeting/
LOCATION:Holy Trinity Community Centre\, 27 Dorset St\, Richmond.\, New Zealand
CATEGORIES:History
ATTACH;FMTTYPE=image/jpeg:https://www.wakefield.org.nz/wp-content/uploads/sites/430/2024/02/Waimea-south-historical-Society-inc.jpg
END:VEVENT
END:VCALENDAR