BEGIN:VCALENDAR
VERSION:2.0
PRODID:-//Wakefield Village - ECPv6.15.18//NONSGML v1.0//EN
CALSCALE:GREGORIAN
METHOD:PUBLISH
X-WR-CALNAME:Wakefield Village
X-ORIGINAL-URL:https://www.wakefield.org.nz
X-WR-CALDESC:Events for Wakefield Village
REFRESH-INTERVAL;VALUE=DURATION:PT1H
X-Robots-Tag:noindex
X-PUBLISHED-TTL:PT1H
BEGIN:VTIMEZONE
TZID:Pacific/Auckland
BEGIN:STANDARD
TZOFFSETFROM:+1300
TZOFFSETTO:+1200
TZNAME:NZST
DTSTART:20220402T140000
END:STANDARD
BEGIN:DAYLIGHT
TZOFFSETFROM:+1200
TZOFFSETTO:+1300
TZNAME:NZDT
DTSTART:20220924T140000
END:DAYLIGHT
BEGIN:STANDARD
TZOFFSETFROM:+1300
TZOFFSETTO:+1200
TZNAME:NZST
DTSTART:20230401T140000
END:STANDARD
BEGIN:DAYLIGHT
TZOFFSETFROM:+1200
TZOFFSETTO:+1300
TZNAME:NZDT
DTSTART:20230923T140000
END:DAYLIGHT
BEGIN:STANDARD
TZOFFSETFROM:+1300
TZOFFSETTO:+1200
TZNAME:NZST
DTSTART:20240406T140000
END:STANDARD
BEGIN:DAYLIGHT
TZOFFSETFROM:+1200
TZOFFSETTO:+1300
TZNAME:NZDT
DTSTART:20240928T140000
END:DAYLIGHT
END:VTIMEZONE
BEGIN:VEVENT
DTSTART;TZID=Pacific/Auckland:20231213T180000
DTEND;TZID=Pacific/Auckland:20231228T193000
DTSTAMP:20260421T163321
CREATED:20231128T205958Z
LAST-MODIFIED:20231128T210901Z
UID:11102-1702490400-1703791800@www.wakefield.org.nz
SUMMARY:Wakefield Community Carol Service
DESCRIPTION:
URL:https://www.wakefield.org.nz/event/wakefield-community-carol-service/
LOCATION:Wakefield School
CATEGORIES:Carol Service
ATTACH;FMTTYPE=image/png:https://www.wakefield.org.nz/wp-content/uploads/sites/430/2023/11/Wakefield-Community-Carol-service.png
END:VEVENT
END:VCALENDAR