BEGIN:VCALENDAR
VERSION:2.0
PRODID:-//Wakefield Village - ECPv6.15.18//NONSGML v1.0//EN
CALSCALE:GREGORIAN
METHOD:PUBLISH
X-WR-CALNAME:Wakefield Village
X-ORIGINAL-URL:https://www.wakefield.org.nz
X-WR-CALDESC:Events for Wakefield Village
REFRESH-INTERVAL;VALUE=DURATION:PT1H
X-Robots-Tag:noindex
X-PUBLISHED-TTL:PT1H
BEGIN:VTIMEZONE
TZID:Pacific/Auckland
BEGIN:STANDARD
TZOFFSETFROM:+1300
TZOFFSETTO:+1200
TZNAME:NZST
DTSTART:20220402T140000
END:STANDARD
BEGIN:DAYLIGHT
TZOFFSETFROM:+1200
TZOFFSETTO:+1300
TZNAME:NZDT
DTSTART:20220924T140000
END:DAYLIGHT
BEGIN:STANDARD
TZOFFSETFROM:+1300
TZOFFSETTO:+1200
TZNAME:NZST
DTSTART:20230401T140000
END:STANDARD
BEGIN:DAYLIGHT
TZOFFSETFROM:+1200
TZOFFSETTO:+1300
TZNAME:NZDT
DTSTART:20230923T140000
END:DAYLIGHT
BEGIN:STANDARD
TZOFFSETFROM:+1300
TZOFFSETTO:+1200
TZNAME:NZST
DTSTART:20240406T140000
END:STANDARD
BEGIN:DAYLIGHT
TZOFFSETFROM:+1200
TZOFFSETTO:+1300
TZNAME:NZDT
DTSTART:20240928T140000
END:DAYLIGHT
END:VTIMEZONE
BEGIN:VEVENT
DTSTART;TZID=Pacific/Auckland:20231111T100000
DTEND;TZID=Pacific/Auckland:20231111T140000
DTSTAMP:20260422T043308
CREATED:20231110T093855Z
LAST-MODIFIED:20231110T093855Z
UID:11083-1699696800-1699711200@www.wakefield.org.nz
SUMMARY:Open Day at Plant and Share
DESCRIPTION:
URL:https://www.wakefield.org.nz/event/open-day-at-plant-and-share/
LOCATION:216 Pigon Valley Road
CATEGORIES:Retail
ATTACH;FMTTYPE=image/png:https://www.wakefield.org.nz/wp-content/uploads/sites/430/2023/11/Plant-and-share.png
END:VEVENT
BEGIN:VEVENT
DTSTART;TZID=Pacific/Auckland:20231111T200000
DTEND;TZID=Pacific/Auckland:20231111T220000
DTSTAMP:20260422T043308
CREATED:20231107T093818Z
LAST-MODIFIED:20231107T093818Z
UID:11079-1699732800-1699740000@www.wakefield.org.nz
SUMMARY:Stand Up Comedy
DESCRIPTION:
URL:https://www.wakefield.org.nz/event/stand-up-comedy/
LOCATION:Wakefield Hall\, 10 Whitby Way\, Wakefield\, New Zealand
CATEGORIES:Dance & Drama
ATTACH;FMTTYPE=image/jpeg:https://www.wakefield.org.nz/wp-content/uploads/sites/430/2023/11/Stand-Up-Comedy.jpg
END:VEVENT
END:VCALENDAR