BEGIN:VCALENDAR
VERSION:2.0
PRODID:-//Wakefield Village - ECPv6.15.18//NONSGML v1.0//EN
CALSCALE:GREGORIAN
METHOD:PUBLISH
X-WR-CALNAME:Wakefield Village
X-ORIGINAL-URL:https://www.wakefield.org.nz
X-WR-CALDESC:Events for Wakefield Village
REFRESH-INTERVAL;VALUE=DURATION:PT1H
X-Robots-Tag:noindex
X-PUBLISHED-TTL:PT1H
BEGIN:VTIMEZONE
TZID:Pacific/Auckland
BEGIN:STANDARD
TZOFFSETFROM:+1300
TZOFFSETTO:+1200
TZNAME:NZST
DTSTART:20220402T140000
END:STANDARD
BEGIN:DAYLIGHT
TZOFFSETFROM:+1200
TZOFFSETTO:+1300
TZNAME:NZDT
DTSTART:20220924T140000
END:DAYLIGHT
BEGIN:STANDARD
TZOFFSETFROM:+1300
TZOFFSETTO:+1200
TZNAME:NZST
DTSTART:20230401T140000
END:STANDARD
BEGIN:DAYLIGHT
TZOFFSETFROM:+1200
TZOFFSETTO:+1300
TZNAME:NZDT
DTSTART:20230923T140000
END:DAYLIGHT
BEGIN:STANDARD
TZOFFSETFROM:+1300
TZOFFSETTO:+1200
TZNAME:NZST
DTSTART:20240406T140000
END:STANDARD
BEGIN:DAYLIGHT
TZOFFSETFROM:+1200
TZOFFSETTO:+1300
TZNAME:NZDT
DTSTART:20240928T140000
END:DAYLIGHT
END:VTIMEZONE
BEGIN:VEVENT
DTSTART;TZID=Pacific/Auckland:20231001T100000
DTEND;TZID=Pacific/Auckland:20231001T150000
DTSTAMP:20260422T024957
CREATED:20230922T095353Z
LAST-MODIFIED:20230922T095353Z
UID:11003-1696154400-1696172400@www.wakefield.org.nz
SUMMARY:Willow Bank Heritage Village October Open Day
DESCRIPTION:Save the Date for Willow Bank Heritage Village Open Day\, open SUNDAY OCTOBER 1ST 10am – 3pm.\n\n\nWe will have running:\n\n\n CHILDRENS SUITCASE MARKET – Come along and set up your suitcase stall under our sun shade\, stay as long as you like. No need to book.\n\n\n BARTER AND SELL MARKET – Please book your spot: willowbank2002@gmail.com. A great opportunity to declutter or sell unused\, unwanted\, or handmade items etc.\n\n\n VICTORIAN SCHOOL EXPERIENCE – Mr Wilkinson will be running the classes\, please book outside the school house on the day. There will be a few sessions throughout the day. Not to be missed!\n\n\n CINEMA EXPERIENCE – Our cinema will be running throughout the open day\, by our experienced projectionist…watch a short film on our Super 8 Projector & Screen.\n\n\n DRESS UP AND LOOK THE PART – Want to immerse yourself in this experience? We’d love you to! Please pick up a map at the entrance and make your way to the dress shop. Find your character and step back in time. “Willow Bank is a stage and you are part of the play!”\n\n\n VICTORIAN CAFE – Enjoy an authentic Victorian style Coffee with delicious local Sublime Coffee\, brewed in a restored 100 year old espresso machine. If you prefer tea\, we have Pomeroys\, served in our beautiful China\, with tiny milk jugs\, and all the extras + Cakes\, Scones and home made jam\, and tea sandwiches. (We have many gluten free options!)\n\n\n 1950s BURGER BAR – run by Deano’s Hotdogs\n\n\n 1970s MILK BAR – Milkshakes\, Spiders & Icecreams available here.\n\n\n VILLAGE OPEN TO EXPLORE – This is an awesome experience that you can tailor yourself. Here at Willow Bank we have a “Living Museum” So most things are available for you to look at up close\, you can get dressed up for your visit. We have over 20 shops in our village to be explored.\n\n\nEFTPOS AVAILABLE.\nENTRY $7 per adult / $3 per child.
URL:https://www.wakefield.org.nz/event/willow-bank-heritage-village-october-open-day/
LOCATION:Willow Bank Heritage Village
CATEGORIES:History
ATTACH;FMTTYPE=image/jpeg:https://www.wakefield.org.nz/wp-content/uploads/sites/430/2023/09/Willow-bank-October.jpg
END:VEVENT
BEGIN:VEVENT
DTSTART;TZID=Pacific/Auckland:20231001T100000
DTEND;TZID=Pacific/Auckland:20231001T150000
DTSTAMP:20260422T024957
CREATED:20230922T095534Z
LAST-MODIFIED:20230922T095534Z
UID:11005-1696154400-1696172400@www.wakefield.org.nz
SUMMARY:Children's Suitcase Market
DESCRIPTION:
URL:https://www.wakefield.org.nz/event/childrens-suitcase-market/
LOCATION:Willow Bank Heritage Village
ATTACH;FMTTYPE=image/jpeg:https://www.wakefield.org.nz/wp-content/uploads/sites/430/2023/09/suitcase-market.jpg
END:VEVENT
BEGIN:VEVENT
DTSTART;TZID=Pacific/Auckland:20231005T190000
DTEND;TZID=Pacific/Auckland:20231005T210000
DTSTAMP:20260422T024957
CREATED:20230922T093733Z
LAST-MODIFIED:20230922T093733Z
UID:11002-1696532400-1696539600@www.wakefield.org.nz
SUMMARY:Meet the West Coast - Tasman Candidates
DESCRIPTION:Who will your West Coast-Tasman candidate vote go towards this General election 2023?\nDo you know who’s running?\n\n\nThursday 5th October\, 7pm\nWakefield Village Hall\nMeet the candidate evening for the Westcoast-Tasman electorate.\n\n\n\nDo you have a question to ask the candidates or want to hear what they stand for regarding their policies\, we would love to hear from you. Questions will be presented by the MC during the night from gathered questions prior. No questions will be presented by the floor during the event.\n\n\nPlease send your question(s) to the Wakefield community council secretary email: wccsecretary7025@gmail.com or drop it in the letter box at the Wakefield village hall.\nMonday 2nd October will be the cut off for questions\, to ensure questions are ready for the night Thursday.
URL:https://www.wakefield.org.nz/event/meet-the-west-coast-tasman-candidates-2/
LOCATION:Wakefield Hall\, 10 Whitby Way\, Wakefield\, New Zealand
CATEGORIES:Elections
ATTACH;FMTTYPE=image/jpeg:https://www.wakefield.org.nz/wp-content/uploads/sites/430/2023/09/Meet-the-Candidates.jpg
END:VEVENT
BEGIN:VEVENT
DTSTART;TZID=Pacific/Auckland:20231014T100000
DTEND;TZID=Pacific/Auckland:20231014T140000
DTSTAMP:20260422T024957
CREATED:20230716T215632Z
LAST-MODIFIED:20230718T092006Z
UID:10858-1697277600-1697292000@www.wakefield.org.nz
SUMMARY:Art Expo
DESCRIPTION:
URL:https://www.wakefield.org.nz/event/art-expo/
LOCATION:Wakefield Hall\, 10 Whitby Way\, Wakefield\, New Zealand
CATEGORIES:Art Group
ATTACH;FMTTYPE=image/jpeg:https://www.wakefield.org.nz/wp-content/uploads/sites/430/2023/07/ArtEXPOadvert14Oct.jpg
END:VEVENT
BEGIN:VEVENT
DTSTART;TZID=Pacific/Auckland:20231014T100000
DTEND;TZID=Pacific/Auckland:20231014T140000
DTSTAMP:20260422T024957
CREATED:20231012T085817Z
LAST-MODIFIED:20231012T090017Z
UID:11018-1697277600-1697292000@www.wakefield.org.nz
SUMMARY:Big Bake Up Stand
DESCRIPTION:
URL:https://www.wakefield.org.nz/event/big-bake-up-stand/
LOCATION:Wakefield Hall\, 10 Whitby Way\, Wakefield\, New Zealand
ATTACH;FMTTYPE=image/jpeg:https://www.wakefield.org.nz/wp-content/uploads/sites/430/2023/10/Big-Bake-Up-Expo.jpg
END:VEVENT
BEGIN:VEVENT
DTSTART;TZID=Pacific/Auckland:20231016T190000
DTEND;TZID=Pacific/Auckland:20231016T210000
DTSTAMP:20260422T024957
CREATED:20231012T084749Z
LAST-MODIFIED:20231012T085122Z
UID:11010-1697482800-1697490000@www.wakefield.org.nz
SUMMARY:Wakefield Community Council Meeting
DESCRIPTION:
URL:https://www.wakefield.org.nz/event/wakefield-community-council-meeting-2/
LOCATION:Wakefield Hall\, 10 Whitby Way\, Wakefield\, New Zealand
ATTACH;FMTTYPE=image/jpeg:https://www.wakefield.org.nz/wp-content/uploads/sites/430/2023/10/WCC.jpg
END:VEVENT
BEGIN:VEVENT
DTSTART;TZID=Pacific/Auckland:20231020T200000
DTEND;TZID=Pacific/Auckland:20231020T220000
DTSTAMP:20260422T024957
CREATED:20230912T093853Z
LAST-MODIFIED:20230922T093424Z
UID:10971-1697832000-1697839200@www.wakefield.org.nz
SUMMARY:Halloween at Willow Bank Heritage Village
DESCRIPTION:Who’s ready for this year’s event? \nBigger and greater than ever before. We want to see you at the event of the year in Nelson/Tasman.\n\n\n\n Trick or Treat for the families and children. Experience trick or Treating in a safe environment. The atmosphere is incredibly friendly with everyone dressing up and making the most of this special event. What will you be dressing up as this year?\n\n\n\n We will have wonderful food vendors which we will feed your hungry mouths. They will have a great selection of food and drink for the whole family.\n\n\n\n Haunted Village happening Friday and Saturday 13years and older (not designed for children). This is our scare zone\, with fog\, strobe lighting\, jump scares\, blood plus the weird and wacky. If your walked the course before\, this year is something you don’t want to miss!\n\n\n\nSpread the word!! and remember…Halloween at Willow Bank 2023. October 20th and 21st isn’t to be missed!!
URL:https://www.wakefield.org.nz/event/halloween-willow-bank-2023/
LOCATION:Willow Bank Heritage Village
CATEGORIES:Halloween
ATTACH;FMTTYPE=image/jpeg:https://www.wakefield.org.nz/wp-content/uploads/sites/430/2023/09/Halloween-1.jpg
END:VEVENT
BEGIN:VEVENT
DTSTART;TZID=Pacific/Auckland:20231021T170000
DTEND;TZID=Pacific/Auckland:20231021T190000
DTSTAMP:20260422T024957
CREATED:20230912T094126Z
LAST-MODIFIED:20230922T093106Z
UID:10973-1697907600-1697914800@www.wakefield.org.nz
SUMMARY:Halloween at Willow Bank Heritage Village
DESCRIPTION:Who’s ready for this year’s event? \nBigger and greater than ever before. We want to see you at the event of the year in Nelson/Tasman.\n\n\n\n Trick or Treat for the families and children. Experience trick or Treating in a safe environment. The atmosphere is incredibly friendly with everyone dressing up and making the most of this special event. What will you be dressing up as this year?\n\n\n\n We will have wonderful food vendors which we will feed your hungry mouths. They will have a great selection of food and drink for the whole family.\n\n\n\n Haunted Village happening Friday and Saturday 13years and older (not designed for children). This is our scare zone\, with fog\, strobe lighting\, jump scares\, blood plus the weird and wacky. If your walked the course before\, this year is something you don’t want to miss!\n\n\nSpread the word!! and remember…Halloween at Willow Bank 2023. October 20th and 21st isn’t to be missed!!
URL:https://www.wakefield.org.nz/event/halloween-willow-bank-2023-2/
LOCATION:Willow Bank Heritage Village
CATEGORIES:Halloween
ATTACH;FMTTYPE=image/jpeg:https://www.wakefield.org.nz/wp-content/uploads/sites/430/2023/09/Halloween-1.jpg
END:VEVENT
BEGIN:VEVENT
DTSTART;TZID=Pacific/Auckland:20231024T100000
DTEND;TZID=Pacific/Auckland:20231024T120000
DTSTAMP:20260422T024957
CREATED:20231012T085011Z
LAST-MODIFIED:20231012T085011Z
UID:11014-1698141600-1698148800@www.wakefield.org.nz
SUMMARY:Waimea Historical Society Guided Walk
DESCRIPTION:
URL:https://www.wakefield.org.nz/event/waimea-historical-society-guided-walk/
LOCATION:Village Green
CATEGORIES:History
ATTACH;FMTTYPE=image/jpeg:https://www.wakefield.org.nz/wp-content/uploads/sites/430/2023/10/hIstorical-society.jpg
END:VEVENT
BEGIN:VEVENT
DTSTART;TZID=Pacific/Auckland:20231029T110000
DTEND;TZID=Pacific/Auckland:20231029T130000
DTSTAMP:20260422T024957
CREATED:20231018T084057Z
LAST-MODIFIED:20231018T084057Z
UID:11048-1698577200-1698584400@www.wakefield.org.nz
SUMMARY:Wet and Wild Pool Opening day
DESCRIPTION:
URL:https://www.wakefield.org.nz/event/wet-and-wild-pool-opening-day/
LOCATION:Wakefield School Pool
CATEGORIES:Sport
ATTACH;FMTTYPE=image/png:https://www.wakefield.org.nz/wp-content/uploads/sites/430/2023/10/Pool-Opening.png
END:VEVENT
BEGIN:VEVENT
DTSTART;TZID=Pacific/Auckland:20231029T110000
DTEND;TZID=Pacific/Auckland:20231029T130000
DTSTAMP:20260422T024957
CREATED:20231023T100242Z
LAST-MODIFIED:20231023T100242Z
UID:11055-1698577200-1698584400@www.wakefield.org.nz
SUMMARY:'Wet 'n Wild' School & Community Opening Day
DESCRIPTION:
URL:https://www.wakefield.org.nz/event/wet-n-wild-school-community-opening-day/
CATEGORIES:Sport
ATTACH;FMTTYPE=image/png:https://www.wakefield.org.nz/wp-content/uploads/sites/430/2023/10/Pool-Opening.png
END:VEVENT
END:VCALENDAR