BEGIN:VCALENDAR
VERSION:2.0
PRODID:-//Wakefield Village - ECPv6.15.20//NONSGML v1.0//EN
CALSCALE:GREGORIAN
METHOD:PUBLISH
X-WR-CALNAME:Wakefield Village
X-ORIGINAL-URL:https://www.wakefield.org.nz
X-WR-CALDESC:Events for Wakefield Village
REFRESH-INTERVAL;VALUE=DURATION:PT1H
X-Robots-Tag:noindex
X-PUBLISHED-TTL:PT1H
BEGIN:VTIMEZONE
TZID:Pacific/Auckland
BEGIN:STANDARD
TZOFFSETFROM:+1300
TZOFFSETTO:+1200
TZNAME:NZST
DTSTART:20220402T140000
END:STANDARD
BEGIN:DAYLIGHT
TZOFFSETFROM:+1200
TZOFFSETTO:+1300
TZNAME:NZDT
DTSTART:20220924T140000
END:DAYLIGHT
BEGIN:STANDARD
TZOFFSETFROM:+1300
TZOFFSETTO:+1200
TZNAME:NZST
DTSTART:20230401T140000
END:STANDARD
BEGIN:DAYLIGHT
TZOFFSETFROM:+1200
TZOFFSETTO:+1300
TZNAME:NZDT
DTSTART:20230923T140000
END:DAYLIGHT
BEGIN:STANDARD
TZOFFSETFROM:+1300
TZOFFSETTO:+1200
TZNAME:NZST
DTSTART:20240406T140000
END:STANDARD
BEGIN:DAYLIGHT
TZOFFSETFROM:+1200
TZOFFSETTO:+1300
TZNAME:NZDT
DTSTART:20240928T140000
END:DAYLIGHT
END:VTIMEZONE
BEGIN:VEVENT
DTSTART;TZID=Pacific/Auckland:20231021T170000
DTEND;TZID=Pacific/Auckland:20231021T190000
DTSTAMP:20260422T113444
CREATED:20230912T094126Z
LAST-MODIFIED:20230922T093106Z
UID:10973-1697907600-1697914800@www.wakefield.org.nz
SUMMARY:Halloween at Willow Bank Heritage Village
DESCRIPTION:Who’s ready for this year’s event? \nBigger and greater than ever before. We want to see you at the event of the year in Nelson/Tasman.\n\n\n\n Trick or Treat for the families and children. Experience trick or Treating in a safe environment. The atmosphere is incredibly friendly with everyone dressing up and making the most of this special event. What will you be dressing up as this year?\n\n\n\n We will have wonderful food vendors which we will feed your hungry mouths. They will have a great selection of food and drink for the whole family.\n\n\n\n Haunted Village happening Friday and Saturday 13years and older (not designed for children). This is our scare zone\, with fog\, strobe lighting\, jump scares\, blood plus the weird and wacky. If your walked the course before\, this year is something you don’t want to miss!\n\n\nSpread the word!! and remember…Halloween at Willow Bank 2023. October 20th and 21st isn’t to be missed!!
URL:https://www.wakefield.org.nz/event/halloween-willow-bank-2023-2/
LOCATION:Willow Bank Heritage Village
CATEGORIES:Halloween
ATTACH;FMTTYPE=image/jpeg:https://www.wakefield.org.nz/wp-content/uploads/sites/430/2023/09/Halloween-1.jpg
END:VEVENT
END:VCALENDAR