BEGIN:VCALENDAR
VERSION:2.0
PRODID:-//Wakefield Village - ECPv6.15.18//NONSGML v1.0//EN
CALSCALE:GREGORIAN
METHOD:PUBLISH
X-WR-CALNAME:Wakefield Village
X-ORIGINAL-URL:https://www.wakefield.org.nz
X-WR-CALDESC:Events for Wakefield Village
REFRESH-INTERVAL;VALUE=DURATION:PT1H
X-Robots-Tag:noindex
X-PUBLISHED-TTL:PT1H
BEGIN:VTIMEZONE
TZID:Pacific/Auckland
BEGIN:STANDARD
TZOFFSETFROM:+1300
TZOFFSETTO:+1200
TZNAME:NZST
DTSTART:20220402T140000
END:STANDARD
BEGIN:DAYLIGHT
TZOFFSETFROM:+1200
TZOFFSETTO:+1300
TZNAME:NZDT
DTSTART:20220924T140000
END:DAYLIGHT
BEGIN:STANDARD
TZOFFSETFROM:+1300
TZOFFSETTO:+1200
TZNAME:NZST
DTSTART:20230401T140000
END:STANDARD
BEGIN:DAYLIGHT
TZOFFSETFROM:+1200
TZOFFSETTO:+1300
TZNAME:NZDT
DTSTART:20230923T140000
END:DAYLIGHT
BEGIN:STANDARD
TZOFFSETFROM:+1300
TZOFFSETTO:+1200
TZNAME:NZST
DTSTART:20240406T140000
END:STANDARD
BEGIN:DAYLIGHT
TZOFFSETFROM:+1200
TZOFFSETTO:+1300
TZNAME:NZDT
DTSTART:20240928T140000
END:DAYLIGHT
END:VTIMEZONE
BEGIN:VEVENT
DTSTART;TZID=Pacific/Auckland:20231014T100000
DTEND;TZID=Pacific/Auckland:20231014T140000
DTSTAMP:20260422T043151
CREATED:20230716T215632Z
LAST-MODIFIED:20230718T092006Z
UID:10858-1697277600-1697292000@www.wakefield.org.nz
SUMMARY:Art Expo
DESCRIPTION:
URL:https://www.wakefield.org.nz/event/art-expo/
LOCATION:Wakefield Hall\, 10 Whitby Way\, Wakefield\, New Zealand
CATEGORIES:Art Group
ATTACH;FMTTYPE=image/jpeg:https://www.wakefield.org.nz/wp-content/uploads/sites/430/2023/07/ArtEXPOadvert14Oct.jpg
END:VEVENT
BEGIN:VEVENT
DTSTART;TZID=Pacific/Auckland:20231014T100000
DTEND;TZID=Pacific/Auckland:20231014T140000
DTSTAMP:20260422T043151
CREATED:20231012T085817Z
LAST-MODIFIED:20231012T090017Z
UID:11018-1697277600-1697292000@www.wakefield.org.nz
SUMMARY:Big Bake Up Stand
DESCRIPTION:
URL:https://www.wakefield.org.nz/event/big-bake-up-stand/
LOCATION:Wakefield Hall\, 10 Whitby Way\, Wakefield\, New Zealand
ATTACH;FMTTYPE=image/jpeg:https://www.wakefield.org.nz/wp-content/uploads/sites/430/2023/10/Big-Bake-Up-Expo.jpg
END:VEVENT
END:VCALENDAR