BEGIN:VCALENDAR
VERSION:2.0
PRODID:-//Wakefield Village - ECPv6.15.18//NONSGML v1.0//EN
CALSCALE:GREGORIAN
METHOD:PUBLISH
X-WR-CALNAME:Wakefield Village
X-ORIGINAL-URL:https://www.wakefield.org.nz
X-WR-CALDESC:Events for Wakefield Village
REFRESH-INTERVAL;VALUE=DURATION:PT1H
X-Robots-Tag:noindex
X-PUBLISHED-TTL:PT1H
BEGIN:VTIMEZONE
TZID:Pacific/Auckland
BEGIN:STANDARD
TZOFFSETFROM:+1300
TZOFFSETTO:+1200
TZNAME:NZST
DTSTART:20220402T140000
END:STANDARD
BEGIN:DAYLIGHT
TZOFFSETFROM:+1200
TZOFFSETTO:+1300
TZNAME:NZDT
DTSTART:20220924T140000
END:DAYLIGHT
BEGIN:STANDARD
TZOFFSETFROM:+1300
TZOFFSETTO:+1200
TZNAME:NZST
DTSTART:20230401T140000
END:STANDARD
BEGIN:DAYLIGHT
TZOFFSETFROM:+1200
TZOFFSETTO:+1300
TZNAME:NZDT
DTSTART:20230923T140000
END:DAYLIGHT
BEGIN:STANDARD
TZOFFSETFROM:+1300
TZOFFSETTO:+1200
TZNAME:NZST
DTSTART:20240406T140000
END:STANDARD
BEGIN:DAYLIGHT
TZOFFSETFROM:+1200
TZOFFSETTO:+1300
TZNAME:NZDT
DTSTART:20240928T140000
END:DAYLIGHT
END:VTIMEZONE
BEGIN:VEVENT
DTSTART;TZID=Pacific/Auckland:20230926T133000
DTEND;TZID=Pacific/Auckland:20230926T160000
DTSTAMP:20260422T081055
CREATED:20230912T094647Z
LAST-MODIFIED:20230912T094647Z
UID:10975-1695735000-1695744000@www.wakefield.org.nz
SUMMARY:Waimea South Historical Society Inc
DESCRIPTION:The Waimea South Historical Society Inc invites interested people to our meeting on Tuesday September 26th at 1.30pm. This will be held at the Holy Trinity Community Centre 27 Dorset St Richmond.\nOur speaker will be Dr Mike Johnston\, historian\, researcher and author with his latest book “Aorere Gold” The history of the Golden Bay goldfields 1856-1863\nFor non members there will be charge of $5.\nIf more detail needed please text or call 021 542338
URL:https://www.wakefield.org.nz/event/waimea-south-historical-society-inc-2/
LOCATION:Holy Trinity Community Centre\, 27 Dorset St\, Richmond.\, New Zealand
ATTACH;FMTTYPE=image/jpeg:https://www.wakefield.org.nz/wp-content/uploads/sites/430/2023/08/Waimea-south-historical-Society-inc.jpg
END:VEVENT
END:VCALENDAR