BEGIN:VCALENDAR
VERSION:2.0
PRODID:-//Wakefield Village - ECPv6.15.20//NONSGML v1.0//EN
CALSCALE:GREGORIAN
METHOD:PUBLISH
X-WR-CALNAME:Wakefield Village
X-ORIGINAL-URL:https://www.wakefield.org.nz
X-WR-CALDESC:Events for Wakefield Village
REFRESH-INTERVAL;VALUE=DURATION:PT1H
X-Robots-Tag:noindex
X-PUBLISHED-TTL:PT1H
BEGIN:VTIMEZONE
TZID:Pacific/Auckland
BEGIN:STANDARD
TZOFFSETFROM:+1300
TZOFFSETTO:+1200
TZNAME:NZST
DTSTART:20220402T140000
END:STANDARD
BEGIN:DAYLIGHT
TZOFFSETFROM:+1200
TZOFFSETTO:+1300
TZNAME:NZDT
DTSTART:20220924T140000
END:DAYLIGHT
BEGIN:STANDARD
TZOFFSETFROM:+1300
TZOFFSETTO:+1200
TZNAME:NZST
DTSTART:20230401T140000
END:STANDARD
BEGIN:DAYLIGHT
TZOFFSETFROM:+1200
TZOFFSETTO:+1300
TZNAME:NZDT
DTSTART:20230923T140000
END:DAYLIGHT
BEGIN:STANDARD
TZOFFSETFROM:+1300
TZOFFSETTO:+1200
TZNAME:NZST
DTSTART:20240406T140000
END:STANDARD
BEGIN:DAYLIGHT
TZOFFSETFROM:+1200
TZOFFSETTO:+1300
TZNAME:NZDT
DTSTART:20240928T140000
END:DAYLIGHT
END:VTIMEZONE
BEGIN:VEVENT
DTSTART;TZID=Pacific/Auckland:20230908T190000
DTEND;TZID=Pacific/Auckland:20230916T190000
DTSTAMP:20260422T094532
CREATED:20230718T092455Z
LAST-MODIFIED:20230725T113502Z
UID:10876-1694199600-1694890800@www.wakefield.org.nz
SUMMARY:Adams Family
DESCRIPTION:Country Players Present \n‘The Addams Family’ \nFriday 8th\, Saturday 9th\,\nWednesday 13th\, Friday 15th & Saturday 16th September 2023:\nBYO PICNIC THEATRE \nBring your own cutlery\, crockery\, wine glasses and food. We provide coffee and tea. Show starts at: 7.30pm. Doors open at 6.30  \nSunday 10th September: 2pm MATINEE \nNo BYO picnic theatre. We provide coffee and tea. \nTickets: $25 adult \n$15 child (18yrs and under) \n$60 family (2 adult\, 2 child) \nIn this hauntingly hilarious musical\, the eccentric and macabre Addams family faces a new challenge when their daughter\, Wednesday\, falls in love with a “normal” boy from a respectable family. As the young couple’s romance unfolds\, secrets are revealed\, and the Addams and Beineke families are forced to confront their differences in a riotously funny and heart-warming way.  \nHOW TO BOOK  \nPhone 541 9046 or Email bookcountryplayers@gmail.com Please note: We do not issue tickets. Your name will be on a seating plan revealed at the door.  \nHOW TO PAY: \nOur internet banking number is: 03-0751-0274256-00. Please put your name and date of show as reference. e.g. smith 13 sept.
URL:https://www.wakefield.org.nz/event/adams-family/
LOCATION:Wakefield Hall\, 10 Whitby Way\, Wakefield\, New Zealand
CATEGORIES:Dance & Drama
ATTACH;FMTTYPE=image/jpeg:https://www.wakefield.org.nz/wp-content/uploads/sites/430/2023/07/Adams-family-1.jpg
END:VEVENT
END:VCALENDAR