BEGIN:VCALENDAR
VERSION:2.0
PRODID:-//Wakefield Village - ECPv6.15.20//NONSGML v1.0//EN
CALSCALE:GREGORIAN
METHOD:PUBLISH
X-WR-CALNAME:Wakefield Village
X-ORIGINAL-URL:https://www.wakefield.org.nz
X-WR-CALDESC:Events for Wakefield Village
REFRESH-INTERVAL;VALUE=DURATION:PT1H
X-Robots-Tag:noindex
X-PUBLISHED-TTL:PT1H
BEGIN:VTIMEZONE
TZID:Pacific/Auckland
BEGIN:STANDARD
TZOFFSETFROM:+1300
TZOFFSETTO:+1200
TZNAME:NZST
DTSTART:20220402T140000
END:STANDARD
BEGIN:DAYLIGHT
TZOFFSETFROM:+1200
TZOFFSETTO:+1300
TZNAME:NZDT
DTSTART:20220924T140000
END:DAYLIGHT
BEGIN:STANDARD
TZOFFSETFROM:+1300
TZOFFSETTO:+1200
TZNAME:NZST
DTSTART:20230401T140000
END:STANDARD
BEGIN:DAYLIGHT
TZOFFSETFROM:+1200
TZOFFSETTO:+1300
TZNAME:NZDT
DTSTART:20230923T140000
END:DAYLIGHT
BEGIN:STANDARD
TZOFFSETFROM:+1300
TZOFFSETTO:+1200
TZNAME:NZST
DTSTART:20240406T140000
END:STANDARD
BEGIN:DAYLIGHT
TZOFFSETFROM:+1200
TZOFFSETTO:+1300
TZNAME:NZDT
DTSTART:20240928T140000
END:DAYLIGHT
END:VTIMEZONE
BEGIN:VEVENT
DTSTART;TZID=Pacific/Auckland:20230903T100000
DTEND;TZID=Pacific/Auckland:20230903T140000
DTSTAMP:20260422T132620
CREATED:20230829T094304Z
LAST-MODIFIED:20230829T094304Z
UID:10952-1693735200-1693749600@www.wakefield.org.nz
SUMMARY:KCC Scavenger Hunt
DESCRIPTION:Come and take part in our Father’s Day Scavenger Hunt. Have fun\, meet new people and bring a plate to join in  a shared lunch too. Register using the QR code.
URL:https://www.wakefield.org.nz/event/kcc-scavenger-hunt/
LOCATION:Faulkners Bush
CATEGORIES:Scavenger Hunt
ATTACH;FMTTYPE=image/png:https://www.wakefield.org.nz/wp-content/uploads/sites/430/2023/08/KCC.png
END:VEVENT
BEGIN:VEVENT
DTSTART;TZID=Pacific/Auckland:20230903T100000
DTEND;TZID=Pacific/Auckland:20230903T150000
DTSTAMP:20260422T132620
CREATED:20230807T101828Z
LAST-MODIFIED:20230807T101828Z
UID:10914-1693735200-1693753200@www.wakefield.org.nz
SUMMARY:Collectable and Classic Car Display
DESCRIPTION:
URL:https://www.wakefield.org.nz/event/collectable-and-classic-car-display/
LOCATION:Higgins Heritage Park\, 222 Pigeon Valley Rd\, Wakefield\, New Zealand
CATEGORIES:Cars
ATTACH;FMTTYPE=image/jpeg:https://www.wakefield.org.nz/wp-content/uploads/sites/430/2023/08/Classic-car-ad.jpg
END:VEVENT
BEGIN:VEVENT
DTSTART;TZID=Pacific/Auckland:20230903T100000
DTEND;TZID=Pacific/Auckland:20230903T150000
DTSTAMP:20260422T132620
CREATED:20230807T103024Z
LAST-MODIFIED:20230807T103024Z
UID:10920-1693735200-1693753200@www.wakefield.org.nz
SUMMARY:Willow Bank Heritage Village Open Day
DESCRIPTION:Our First Open Day of the new season is coming up fast…\nSUNDAY 3RD SEPTEMBER\n10AM. – 3PM\nWe would love if you could help us get the word out about our first open day of the new season by sharing this event.\nWe will have running:\n\n\n CHILDRENS SUITCASE MARKET – Come along and set up your suitcase stall under our sun shade\, stay as long as you like. No need to book.\n\n\n BARTER AND SELL MARKET – Please book your spot: willowbank2002@gmail.com. A great opportunity to declutter or sell unused\, unwanted\, or handmade items etc.\n\n\n VICTORIAN SCHOOL EXPERIENCE – Mr Wilkinson will be running the classes\, please book outside the school house on the day. There will be a few sessions throughout the day. Not to be missed!\n\n\n CINEMA EXPERIENCE – Our cinema will be running throughout the open day\, by our experienced projectionist…watch a short film on our Super 8 Projector & Screen.\n\n\n DRESS UP AND LOOK THE PART – Want to immerse yourself in this experience? We’d love you to! Please pick up a map at the entrance and make your way to the dress shop. Find your character and step back in time. “Willow Bank is a stage and you are part of the play!”\n\n\n VICTORIAN CAFE – Enjoy an authentic Victorian style Coffee with delicious local Sublime Coffee\, brewed in a restored 100 year old espresso machine. If you prefer tea\, we have Pomeroys\, served in our beautiful China\, with tiny milk jugs\, and all the extras + Cakes\, Scones and home made jam\, and tea sandwiches. (We have many gluten free options!)\n\n\n 1950s BURGER BAR\n\n\n 1970s MILK BAR – Milkshakes\, Spiders & Icecreams available here.\n\n\n VILLAGE OPEN TO EXPLORE – This is an awesome experience that you can tailor yourself. Here at Willow Bank we have a “Living Museum” So most things are available for you to look at up close\, you can get dressed up for your visit. We have over 20 shops in our village to be explored.\n\n\nEFTPOS AVAILABLE.\nENTRY $7 per adult / $3 per child.
URL:https://www.wakefield.org.nz/event/willow-bank-heritage-village-open-day/
LOCATION:Willow Bank Heritage Village
CATEGORIES:History
ATTACH;FMTTYPE=image/jpeg:https://www.wakefield.org.nz/wp-content/uploads/sites/430/2023/08/Willow-Bank-open-Day.jpg
END:VEVENT
BEGIN:VEVENT
DTSTART;TZID=Pacific/Auckland:20230903T100000
DTEND;TZID=Pacific/Auckland:20230903T150000
DTSTAMP:20260422T132620
CREATED:20230807T103806Z
LAST-MODIFIED:20230807T103806Z
UID:10923-1693735200-1693753200@www.wakefield.org.nz
SUMMARY:Willow Bank Historical Village Barter and Sell
DESCRIPTION:
URL:https://www.wakefield.org.nz/event/willow-bank-historical-village-barter-and-sell/
LOCATION:Willow Bank Heritage Village
CATEGORIES:Car Boot Sale
ATTACH;FMTTYPE=image/jpeg:https://www.wakefield.org.nz/wp-content/uploads/sites/430/2023/08/Willow-bank-Barter-and-Sell.jpg
END:VEVENT
END:VCALENDAR